Workbook

Sheet 表1林地面积
A1: 附表一 安徽省东至县各类林地面积统计表
A2: 单 位 | B2: 土地面积 (公顷) | C2: 林地面积 (公顷) | D2: 有林地面积 (公顷) | E2: 灌木林地面积 (公顷) | F2: 未成林地面积 (公顷) | G2: 活立木 蓄积量 （万立方米） | H2: 森林 覆盖率 （%） | I2: 林木绿化率（%）
A3: 东至县 | B3: 325002 | C3: 210497.1 | D3: 182486.7 | E3: 10549.3 | F3: 13640.8 | G3: 9983835 | H3: 0.57224325 | I3: 0.629
A4: 尧渡镇 | B4: 39244 | C4: 28326.5 | D4: 26243.5 | E4: 344.9 | F4: 1445.4 | G4: 1079293 | H4: 0.67443686
A5: 东流镇 | B5: 15960 | C5: 3553.9 | D5: 2717.8 | E5: 95.7 | F5: 483.3 | G5: 96358 | H5: 0.17099624
A6: 大渡口镇 | B6: 13217 | C6: 727.5 | D6: 555.1 | E6: 0 | F6: 172.4 | G6: 38084 | H6: 0.041998941
A7: 胜利镇 | B7: 18094 | C7: 1094.5 | D7: 900.5 | E7: 36.7 | F7: 157.3 | G7: 46405 | H7: 0.05001658
A8: 张溪镇 | B8: 32503 | C8: 14240.4 | D8: 12231.9 | E8: 1084.4 | F8: 607.3 | G8: 789744 | H8: 0.37750977
A9: 洋湖镇 | B9: 17896 | C9: 13002.5 | D9: 7662.5 | E9: 3559.9 | F9: 785.5 | G9: 305842 | H9: 0.43595776
A10: 葛公镇 | B10: 25191 | C10: 21919.6 | D10: 18412.3 | E10: 2693.4 | F10: 670 | G10: 781514 | H10: 0.7510738
A11: 香隅镇 | B11: 21642 | C11: 11264.9 | D11: 10217.7 | E11: 42.9 | F11: 996.2 | G11: 390301 | H11: 0.47250254
A12: 官港镇 | B12: 24480 | C12: 21034.2 | D12: 19313.7 | E12: 467 | F12: 906.6 | G12: 1057527 | H12: 0.80803513
A13: 泥溪镇 | B13: 18239 | C13: 14551.2 | D13: 13237.7 | E13: 332.6 | F13: 809.7 | G13: 810650 | H13: 0.74402654
A14: 昭潭镇 | B14: 14747 | C14: 11332.3 | D14: 9558.6 | E14: 77.1 | F14: 1431.4 | G14: 494215 | H14: 0.65331932
A15: 龙泉镇 | B15: 19031 | C15: 12628.4 | D15: 11341.7 | E15: 504.4 | F15: 481.7 | G15: 536944 | H15: 0.61584257
... A22: 东流苗圃 | B22: 127 | C22: 127.2 | D22: 82.4 | E22: 30.3 | F22: 8.2 | G22: 2616 | H22: 0.88740157

Sheet 表2分区布局
A1: 附表2 东至县“十四五”森林防火规划建设布局分区表
A3: 序号 | B3: 类型布局 | D3: 行政区划单位
A4: 合 计 | C4: 19
A5: 1 | B5: 北部沿江沿湖地区 | C5: 7 | D5: 大渡口镇、胜利镇、东流镇、香隅镇、张溪镇、香口林场、东流苗圃
A6: 2 | B6: 尧渡以北低山丘陵地区 | C6: 3 | D6: 尧渡镇、金寺山林场、梅城林场
A7: 3 | B7: 东部石灰岩山区 | C7: 2 | D7: 葛公镇、洋湖镇
A8: 4 | B8: 南部丘陵山区 | C8: 7 | D8: 官港镇、木塔镇、花园乡、泥溪镇、昭潭镇、龙泉镇、青山乡

Sheet 表3火灾统计
A1: 附表3 | B1: 东至县2016-2021年度森林火灾情况统计表
A2: 乡镇 | B2: 行政村 | C2: 森林火灾次数 | H2: 火场总面积 （公顷） | I2: 损失林木 | K2: 发生年度 | L2: 备注
C3: 计 | D3: 一般火灾 | E3: 较大火灾 | F3: 重大火灾 | G3: 特大火灾 | I3: 成林蓄积 | J3: 幼林株数
A4: 东至县 | C4: =SUM(C5:C10) -> 6 | D4: =SUM(D5:D10) -> 2 | E4: =SUM(E5:E10) -> 4 | H4: =SUM(H5:H10) -> 18
A5: 洋湖镇 | B5: 青峰村 | C5: 1 | E5: 1 | H5: 3.5 | K5: 42429
A6: 青山乡 | B6: 梅塘村 | C6: 1 | E6: 1 | H6: 1.9 | K6: 42794
A7: 泥溪镇 | B7: 西湾村 | C7: 1 | D7: 1 | H7: 0.4 | K7: 42829
A8: 尧渡镇 | B8: 孝义村 | C8: 1 | E8: 1 | H8: 9.6 | K8: 43734
A9: 香隅镇 | B9: 香山村 | C9: 1 | E9: 1 | H9: 2 | K9: 43742
A10: 泥溪镇 | B10: 中洲村 | C10: 1 | D10: 1 | H10: 0.6 | K10: 43907

Sheet 表4火源点统计
A1: 附表4 东至县火源点基本情况统计表
I2: 单位：个、处、公顷
A3: 乡镇 | B3: 火源点 数量 | C3: 面积 | D3: 类型
D4: 工矿 企业 | E4: 公墓 | F4: 传统安葬 （散葬）点 | G4: 化学品仓库 （车间） | H4: 加油（气） 站 | I4: 旅游 景点 | J4: 庙宇 | K4: 其它
A5: 东至县 | B5: =SUM(E5:J5) -> 51784 | C5: =SUM(C6:C21) -> 70.2 | D5: =SUM(D6:D21) -> 5 | E5: 16801 | F5: 34335 | G5: =SUM(G6:G21) -> 4 | H5: =SUM(H6:H21) -> 28 | I5: =SUM(I6:I21) -> 4 | J5: 612
A6: 尧渡镇 | B6: =SUM(E6:J6) -> 18946 | C6: 50.3 | D6: 1 | E6: 10597 | F6: 8301 | G6: 1 | H6: 5 | I6: 2 | J6: 40
A7: 东流镇 | B7: =SUM(E7:J7) -> 3113 | C7: 19.9 | F7: 3094 | H7: 2 | J7: 17
A8: 大渡口镇 | B8: =SUM(E8:J8) -> 0
A9: 胜利镇 | B9: =SUM(E9:J9) -> 1362 | F9: 1350 | H9: 2 | J9: 10
A10: 张溪镇 | B10: =SUM(E10:J10) -> 5818 | F10: 5775 | H10: 1 | J10: 42
A11: 洋湖镇 | B11: =SUM(E11:J11) -> 4362 | D11: 1 | F11: 4239 | H11: 1 | J11: 122
A12: 葛公镇 | B12: =SUM(E12:J12) -> 1443 | D12: 1 | F12: 1370 | G12: 1 | H12: 1 | J12: 71
A13: 香隅镇 | B13: =SUM(E13:J13) -> 8990 | D13: 2 | E13: 6204 | F13: 2740 | H13: 4 | J13: 42
A14: 官港镇 | B14: =SUM(E14:J14) -> 1299 | F14: 1234 | H14: 1 | J14: 64
A15: 泥溪镇 | B15: =SUM(E15:J15) -> 1013 | F15: 955 | H15: 2 | J15: 56
A16: 昭潭镇 | B16: =SUM(E16:J16) -> 1288 | F16: 1229 | H16: 1 | J16: 58
A17: 龙泉镇 | B17: =SUM(E17:J17) -> 1283 | F17: 1256 | H17: 3 | J17: 24
A18: 木塔乡 | B18: =SUM(E18:J18) -> 766 | F18: 754 | H18: 2 | J18: 10
A19: 花园乡 | B19: =SUM(E19:J19) -> 1408 | F19: 1370 | H19: 2 | I19: 2 | J19: 34
A20: 青山乡 | B20: =SUM(E20:J20) -> 691 | F20: 668 | H20: 1 | J20: 22
A21: 经济开发区 | B21: =SUM(E21:J21) -> 2 | G21: 2

Sheet 表5林火阻隔系统
A1: 附表5 森林防火阻隔系统一览表
A3: 乡镇 | B3: 合计 （公里） | C3: 小计 （公里） | D3: 现有森林防火阻隔系统 | H3: 小计 （公里） | I3: 拟规划建设森林防火阻隔系统
D4: 自然阻隔带 | E4: 工程阻隔带 | F4: 生物阻隔带 | G4: 组合阻隔带 | I4: 工程阻隔带 | J4: 生物阻隔带 | K4: 组合阻隔带
A5: 合计 | B5: =C5+H5 -> 1150.3 | C5: =SUM(C6:C18) -> 837.7 | D5: =SUM(D6:D18) -> 666.48 | E5: =SUM(E6:E18) -> 66.1 | F5: =SUM(F6:F18) -> 105.1 | H5: =I5+J5 -> 312.6 | I5: =SUM(I6:I22) -> 171.1 | J5: =SUM(J6:J22) -> 141.5
A6: 尧渡镇 | B6: =C6+H6 -> 124.78 | C6: 89.68 | D6: 62.55 | F6: 27.13 | H6: =I6+J6 -> 35.1 | J6: 35.1
A7: 东流镇 | B7: =C7+H7 -> 19.3 | C7: 19.3 | D7: 4.16 | F7: 15.14
A8: 张溪镇 | B8: =C8+H8 -> 59.07 | C8: 51.97 | D8: 51.97 | H8: =I8+J8 -> 7.1 | J8: 7.1
A9: 洋湖镇 | B9: =C9+H9 -> 123.02 | C9: 67.22 | D9: 59.36 | F9: 7.86 | H9: =I9+J9 -> 55.8 | I9: 34.8 | J9: 21
A10: 葛公镇 | B10: =C10+H10 -> 83.72 | C10: 83.72 | D10: 68.22 | F10: 15.5
A11: 香隅镇 | B11: =C11+H11 -> 63.74 | C11: 50.84 | D11: 31.27 | F11: 19.57 | H11: =I11+J11 -> 12.9 | J11: 12.9
A12: 官港镇 | B12: =C12+H12 -> 114.69 | C12: 94.69 | D12: 86.22 | E12: 6.09 | F12: 2.38 | H12: =I12+J12 -> 20 | J12: 20
A13: 昭潭镇 | B13: =C13+H13 -> 77.66 | C13: 46.36 | D13: 24.54 | E13: 21.82 | H13: =I13+J13 -> 31.3 | I13: 21.9 | J13: 9.4
A14: 龙泉镇 | B14: =C14+H14 -> 51.06 | C14: 51.06 | D14: 51.06
A15: 泥溪镇 | B15: =C15+H15 -> 58.76 | C15: 58.76 | D15: 42.31 | F15: 16.45
A16: 花园乡 | B16: =C16+H16 -> 111.89 | C16: 99.69 | D16: 89.54 | E16: 9.06 | F16: 1.07 | H16: =I16+J16 -> 12.2 | J16: 12.2
A17: 木塔乡 | B17: =C17+H17 -> 142.55 | C17: 102.55 | D17: 75.69 | E17: 26.86 | H17: =I17+J17 -> 40 | I17: 40
A18: 青山乡 | B18: =C18+H18 -> 63.86 | C18: 21.86 | D18: 19.59 | E18: 2.27 | H18: =I18+J18 -> 42 | I18: 30.6 | J18: 11.4
A19: 胜利镇 | B19: =C19+H19 -> 10.8 | H19: =I19+J19 -> 10.8 | J19: 10.8
A20: 梅城林场 | B20: =C20+H20 -> 19.5 | H20: =I20+J20 -> 19.5 | I20: 19.5
A21: 金寺山林场 | B21: =C21+H21 -> 16.5 | H21: =I21+J21 -> 16.5 | I21: 16.5
A22: 香口林场 | B22: =C22+H22 -> 9.4 | H22: =I22+J22 -> 9.4 | I22: 7.8 | J22: 1.6

Sheet 表6队伍设施
A1: 附表6 东至县现有森林防火队伍和设施建设情况表
A2: 乡镇（场） | B2: 省地共建专业队 | E2: 半专业队 | G2: 基础设施类型
B3: 数量 | C3: 人数 | D3: 省地共建 专业队 | E3: 数量 | F3: 人数 | G3: 营房 面积 | H3: 防火 车 | I3: 物资 储备库 | J3: 瞭望塔 （台） | K3: 视频 监控 | L3: 林业 管护站 | M3: 防火 检查站 | N3: 宣传牌
A4: 合计 | B4: =SUM(B5:B23) -> 3 | C4: =SUM(C5:C23) -> 60 | E4: =SUM(E5:E23) -> 14 | F4: =SUM(F5:F23) -> 381 | G4: =SUM(G5:G23) -> 240 | H4: =SUM(H5:H23) -> 5 | I4: =SUM(I5:I23) -> 19 | J4: =SUM(J5:J23) -> 4 | K4: =SUM(K5:K23) -> 11 | L4: =SUM(L5:L23) -> 23 | ... N4: =SUM(N5:N23) -> 142
A5: 尧渡镇 | D5: 45 | E5: 1 | F5: 33 | G5: 80 | H5: 2 | I5: 1 | K5: 1 | L5: 2 | N5: 31
A6: 东流镇 | D6: 48 | E6: 1 | F6: 30 | G6: 80 | H6: 2 | I6: 1 | K6: 1 | L6: 1 | N6: 19
A7: 大渡口镇
A8: 胜利镇 | E8: 1 | F8: 20 | I8: 1 | L8: 1 | N8: 12
A9: 张溪镇 | E9: 1 | F9: 27 | I9: 1 | K9: 1 | L9: 1 | N9: 3
A10: 洋湖镇 | E10: 1 | F10: 27 | I10: 1 | K10: 1 | L10: 1 | N10: 4
A11: 葛公镇 | E11: 1 | F11: 27 | I11: 1 | K11: 1 | L11: 1 | N11: 7
A12: 香隅镇 | D12: 50 | E12: 1 | F12: 33 | G12: 80 | H12: 1 | I12: 1 | L12: 1 | N12: 6
A13: 官港镇 | E13: 1 | F13: 27 | I13: 1 | K13: 1 | L13: 1 | N13: 4
A14: 泥溪镇 | E14: 1 | F14: 27 | I14: 1 | K14: 1 | L14: 1 | N14: 4
A15: 昭潭镇 | E15: 1 | F15: 27 | I15: 1 | L15: 1 | N15: 2
A16: 龙泉镇 | E16: 1 | F16: 27 | I16: 1 | K16: 1 | L16: 1 | N16: 2
A17: 木塔乡 | E17: 1 | F17: 26 | I17: 1 | K17: 1 | L17: 1 | N17: 1
A18: 花园乡 | E18: 1 | F18: 25 | I18: 1 | K18: 1 | L18: 1 | N18: 5
A19: 青山乡 | E19: 1 | F19: 25 | I19: 1 | K19: 1 | L19: 1 | N19: 1
A20: 林业局 | I20: 1
A21: 金寺山林场 | B21: 1 | C21: 20 | I21: 1 | J21: 2 | L21: 6 | M21: 3 | N21: 22
A22: 东至梅城林场 | B22: 1 | C22: 20 | I22: 1 | J22: 1 | L22: 1 | N22: 7
A23: 香口林场 | B23: 1 | C23: 20 | I23: 2 | J23: 1 | L23: 1 | N23: 12

Sheet 表7规划建设内容
A1: 东至县森林防火“十四五”规划建设项目一览表
A2: 附表7 | H2: 单位：万元
A3: 建设内容 | B3: 单位 | C3: 近期（2021-2023） | D3: 中远期（2024-2025） | G3: 备注说明 | H3: 总投资 | K3: 近期投资（2016-2020） | N3: 远期投资（2021-2025） | S3: 投资 比例
A4: 一、预警监测系统建设 | E4: =#REF!+#REF!+#REF!+#REF!+#REF! -> #REF! | F4: =#REF!+#REF!+#REF!+#REF!+#REF! -> #REF! | H4: =#REF!+#REF!+#REF!+#REF! -> #REF! | I4: =#REF!+#REF!+#REF!+#REF! -> #REF! | J4: =#REF!+#REF!+#REF!+#REF! -> #REF! | K4: =#REF!+#REF!+#REF!+#REF! -> #REF! | L4: =#REF!+#REF!+#REF!+#REF! -> #REF! | M4: =#REF!+#REF!+#REF!+#REF! -> #REF! | N4: =#REF!+#REF!+#REF!+#REF! -> #REF! | O4: =#REF!+#REF!+#REF!+#REF! -> #REF! | P4: =#REF!+#REF!+#REF!+#REF! -> #REF!
A5: 1、森林火险综合监测站 | B5: 座 | C5: 北低山丘陵地区（天台山森林公园）建设1处。 | D5: 南部丘陵山区各建设1处。 | S5: 6：4
A6: 2、视频监控系统 | B6: 套 | C6: 尧渡以北低山丘陵地区建设1套，南部丘陵山区各建设1套，共2套。 | D6: 北部沿江沿湖地区建设1套，东部石灰岩山区建设1套，共2套。 | S6: 6：4
A7: 3、瞭望塔 | B7: 处 | C7: 修缮4处。
A8: 4、森林火灾风险隐患排查 | B8: 个 | C8: 森林可燃物72个标准地、6个大样地的调查
A9: 二、森林防火信息处理与决策指挥系统
A10: 1、改造县级森林防火指挥中心及配套的应用系统 | B10: 套 | C10: 县森林防火指挥部1套。
A11: 2、防火指挥车 | B11: 辆 | C11: 县森林防火指挥部1辆。
A12: 三、森林专业防扑火队建设
A13: 1、防火专业队伍营房 | B13: 平方米 | C13: 80平方米。
A14: 2、防火训练基地 | B14: 处 | C14: 500平方米。
A15: 四、森林消防能力建设
A16: 1、各类扑火物资 | B16: 台（套、把） | C16: 森林消防专业和半专业队伍人均1把，共440把。 | D16: 森林消防专业和半专业队伍人均1把，共440把。
A17: 2、运兵车 | B17: 辆 | C17: 北部沿江沿湖地区、尧渡以北低山丘陵地区、东部石灰岩山区、南部丘陵山区各1辆，共4辆。
A18: 3、消防车 | B18: 辆 | D18: 北部沿江沿湖地区、尧渡以北低山丘陵地区、东部石灰岩山区、南部丘陵山区各1辆，共4辆。
A19: 4、高扬程灭火水泵 | C19: 北部沿江沿湖地区、尧渡以北低山丘陵地区、东部石灰岩山区、南部丘陵山区各1台，共4台。
A20: 5、新建和改造物资储备库房建设 | B20: 座 | C20: 北部沿江沿湖地区、尧渡以北低山丘陵地区、东部石灰岩山区、南部丘陵山区各1座，共4座。 | D20: 县森林防火指挥部1座。
A21: 五、森林航空消防能力建设
A22: 1、航空站
A23: 2、无人机系统 | C23: 每个乡镇（场、苗圃）配备1架，19架小型无人机，
A24: 六、森林防火通信系统建设 | S24: 6：4
A25: 1、手持设备 | B25: 台 | C25: 北部沿江沿湖地区140台、尧渡以北低山丘陵地区60台、东部石灰岩山区40台、南部丘陵山区140台，防火指挥部20台，共400台。 | F25: =Sheet3!#REF!+Sheet3!#REF!+Sheet3!#REF! -> #REF! | G25: 6+N系统内容，原有内容删除 | H25: 3000 | I25: =H25*0.8 -> 2400 | J25: =H25*0.2 -> 600 | K25: 2000 | L25: =K25*0.8 -> 1600 | M25: =K25*0.2 -> 400 | N25: =H25-K25 -> 1000 | O25: =N25*0.8 -> 800 | P25: =N25*0.2 -> 200 | S25: 8：2
A26: 2、车载设备 | B26: 台 | C26: 县森林防火指挥部1台。 | S26: 6：4
A27: 3、北斗车载系统 | B27: 套 | D27: 县森林防火指挥部1套。 | E27: =E28+#REF!+#REF! -> #REF! | F27: =F28+#REF!+#REF! -> #REF! | H27: =H28+#REF!+#REF! -> #REF! | I27: =H27*0.8 -> #REF! | J27: =H27*0.2 -> #REF! | K27: =K28+#REF!+#REF! -> #REF! | L27: =K27*0.8 -> #REF! | M27: =K27*0.2 -> #REF! | N27: =N28+#REF!+#REF! -> #REF! | O27: =N27*0.8 -> #REF! | P27: =N27*0.2 -> #REF!
A28: 4、北斗手持机 | B28: 台 | D28: 县森林防火指挥部5台。 | F28: =J28*0.9 -> 9000 | H28: 50000 | I28: =H28*0.8 -> 40000 | J28: =H28*0.2 -> 10000 | K28: 30000 | L28: =K28*0.8 -> 24000 | M28: =K28*0.2 -> 6000 | N28: =H28-K28 -> 20000 | O28: =N28*0.8 -> 16000 | P28: =N28*0.2 -> 4000 | S28: 8：2
A29: 七、林火阻隔系统建设 | S29: 6：4
A30: 1、防火隔离带改造提升 | B30: 千米 | C30: 尧渡以北低山丘陵地区：尧渡镇27.13千米；东部石灰岩山区：洋湖镇7.86千米，葛公镇15.5千米，共50.49千米。 | D30: 北部沿江沿湖地区：东流镇15.14千米，香隅镇19.57千米；南部丘陵山区：官港镇2.38千米，泥溪镇16.45千米，花园乡1.07千米，共54.61千米。 | S30: 6：4
A31: 2、工程隔离带质量提升 | B31: 千米 | C31: 南部丘陵山区：官港镇6.09千米，昭潭镇21.82千米，共27.91千米。 | D31: 南部丘陵山区：花园乡9.06千米，木塔乡26.86千米，青山乡2.27千米，共38.19千米。 | S31: 8：2
A32: 3、新建生物防火林带 | B32: 千米 | C32: 尧渡以北低山丘陵地区：尧渡镇35.1千米；东部石灰岩山区：洋湖镇28.1千米，葛公镇11.4千米，共74.6千米。 | D32: 北部沿江沿湖地区：胜利镇10.8千米，香隅镇12.9千米，香口林场1.6千米；南部丘陵山区：昭潭镇6.1千米，官港镇20千米，花园乡12.2千米，共63.6千米。 | E32: =#REF!+#REF!+#REF!+#REF! -> #REF! | F32: =#REF!+#REF!+#REF!+#REF! -> #REF! | G32: 该项内容无法按建设任务分开，建议按照建设内容罗列，如果按照这个内容可以让各个地方再细化 | H32: =#REF!+#REF!+#REF!+#REF! -> #REF! | I32: =#REF!+#REF!+#REF!+#REF! -> #REF! | J32: =#REF!+#REF!+#REF!+#REF! -> #REF! | K32: =#REF!+#REF!+#REF!+#REF! -> #REF! | L32: =#REF!+#REF!+#REF!+#REF! -> #REF! | M32: =#REF!+#REF!+#REF!+#REF! -> #REF! | N32: =#REF!+#REF!+#REF!+#REF! -> #REF! | O32: =#REF!+#REF!+#REF!+#REF! -> #REF! | P32: =#REF!+#REF!+#REF!+#REF! -> #REF! | S32: 8：2
A33: 4、森林防火应急道路 | B33: 千米 | C33: 东部石灰岩山区：洋湖镇34.8千米；北部沿江沿湖地区：香口林场7.9千米；尧渡以北低山丘陵地区：金寺山林场16.5千米，梅城林场19.5千米，尧渡镇2.1千米，共80.8千米。 | D33: 南部丘陵山区：木塔镇40千米，昭潭镇26.3千米，青山乡30.6千米，共96.9千米。
A34: 八、森林防火宣传教育体系建设
A35: 大型宣传牌 | B35: 个 | C35: 尧渡以北低山丘陵地区和南部丘陵山区各建设1个。 | D35: 北部沿江沿湖地区和东部石灰岩山区各建设1个。 | S35: 8：2
A36: 电子显示屏 | B36: 项 | C36: 尧渡以北低山丘陵地区和南部丘陵山区各建设1个。 | D36: 北部沿江沿湖地区和东部石灰岩山区各建设1个。 | E36: =E37+#REF! -> #REF! | F36: =F37+#REF! -> #REF! | H36: =H37+#REF! -> #REF! | I36: =I37+#REF! -> #REF! | J36: =J37+#REF! -> #REF! | K36: =K37+#REF! -> #REF! | L36: =L37+#REF! -> #REF! | M36: =M37+#REF! -> #REF! | N36: =N37+#REF! -> #REF! | O36: =O37+#REF! -> #REF! | P36: =P37+#REF! -> #REF!
A37: 防火宣传车 | B37: 座 | C37: 县森林防火指挥部1辆。 | F37: =J37 -> 33000 | G37: 未实施还是没统计（国家没有） | H37: 165000 | I37: =H37*0.8 -> 132000 | J37: =H37*0.2 -> 33000 | K37: 85000 | L37: =K37*0.8 -> 68000 | M37: =K37*0.2 -> 17000 | N37: =H37-K37 -> 80000 | O37: =N37*0.8 -> 64000 | P37: =N37*0.2 -> 16000 | S37: 8：2
A38: 智能语音系统 | B38: 套 | C38: 尧渡以北低山丘陵地区：建设6套；南部丘陵山区：建设14套；共建设20套。 | D38: 北部沿江沿湖地区：10套；东部石灰岩山区：建设6套；共建设16套。 | S38: 6：4
A39: 九、重点区域防火建设
A40: 焚烧池 | B40: 个 | C40: 北部沿江沿湖地区：50个；尧渡以北低山丘陵地区：30个；共80个。 | D40: 东部石灰岩山区：20个；南部丘陵山区：40个；共60个。
...

Sheet 附表2
A1: 森林火险预警监测系统现状统计表
A2: 附表2
A3: 项目名称 | B3: 森林火险预警系统 | F3: 卫星林火监测系统 | I3: 林火视频监控系统 | L3: 瞭望塔（台）建设 | Q3: 火情瞭望监测覆盖面积（林地面积） | T3: 火情瞭望监测覆盖率
B4: 国家级预警管理平台 | C4: 省级预警管理平台 | D4: 森林火险预警模型 | E4: 森林火险综合检测站 | F4: 卫星数据接收处理系统 | G4: 卫星资源数据共享分发平台 | H4: 分中心的数据上传系统 | I4: 新建 | J4: 覆盖面积（林地面积） | K4: 覆盖率 | L4: 新建 | M4: 改造 | N4: 望远镜、红外探测仪 | O4: 覆盖面积（林地面积） | P4: 覆盖率 | Q4: 规划实施前 | R4: 2020年 | S4: 预计规划期末 | T4: 规划实施前 | U4: 2020年 | V4: 预计规划期末
B5: 套 | C5: 套 | D5: 套 | E5: 个 | F5: 套 | G5: 套 | H5: 套 | I5: 套 | J5: 公顷 | K5: % | L5: 座 | M5: 座 | N5: 个 | O5: 公顷 | P5: % | Q5: 公顷 | R5: 公顷 | S5: 公顷 | T5: % | U5: % | V5: %
A6: 2016-2020年全省合计完成量 | B6: =SUM(B7:B19) -> 0 | C6: 0 | D6: =SUM(D7:D19) -> 1 | E6: =SUM(E7:E19) -> 8 | F6: =SUM(F7:F19) -> 0 | G6: =SUM(G7:G19) -> 0 | H6: =SUM(H7:H19) -> 0 | I6: =SUM(I7:I19) -> 254 | J6: =SUM(J7:J19) -> 1069285.7 | K6: 28 | L6: =SUM(L7:L19) -> 74 | M6: =SUM(M7:M19) -> 61 | N6: =SUM(N7:N19) -> 84 | O6: =SUM(O7:O19) -> 284067 | P6: 10 | Q6: 1479314 | R6: =SUM(R7:R19) -> 2601126 | S6: 3142988 | T6: 37 | U6: 66 | V6: 79
A7: 淮北市 | B7: 0 | C7: 0 | D7: 0 | E7: 0 | F7: 0 | G7: 0 | H7: 0 | I7: 1 | J7: 953.66 | K7: 95 | L7: 11 | M7: 0 | N7: 0 | O7: 2000 | Q7: 1052 | R7: 3052 | S7: 4050
A8: 宿州市 | B8: 0 | C8: 0 | D8: 0 | E8: 1 | F8: 0 | G8: 0 | H8: 0 | I8: 2 | J8: 5303 | K8: 48.56 | L8: 2 | M8: 0 | N8: 1 | O8: 400 | P8: 31.68 | Q8: 1353 | R8: 8056 | S8: 25765 | T8: 23.3 | U8: 57.34 | V8: 80.6
A9: 蚌埠市 | B9: 0 | C9: 0 | D9: 0 | E9: 0 | F9: 0 | G9: 0 | H9: 0 | I9: 5 | J9: 4420 | K9: 73.7 | L9: 2 | M9: 0 | N9: 0 | O9: 1000 | P9: 16.7 | Q9: 4258 | R9: 6732 | S9: 8972 | T9: 0 | U9: 16.7 | V9: 100
A10: 淮南市 | B10: 0 | C10: 0 | D10: 0 | E10: 0 | F10: 0 | G10: 0 | H10: 0 | I10: 3 | J10: 52300 | K10: 60 | L10: 2 | M10: 0 | N10: 0 | O10: 1100 | Q10: 42630 | R10: 53400 | S10: 70000
A11: 滁州市 | B11: 0 | C11: 0 | D11: 0 | E11: 0 | F11: 0 | G11: 0 | H11: 0 | I11: 1 | J11: 77928 | K11: 71 | L11: 4 | M11: 23 | N11: 52 | O11: 97926 | P11: 90 | Q11: 89063 | R11: 132856 | S11: 109500 | T11: 81 | U11: 91 | V11: 95
A12: 六安市 | B12: 0 | C12: 0 | D12: 0 | E12: 5 | F12: 0 | G12: 0 | H12: 0 | I12: 2 | J12: 126458 | K12: 18.9 | L12: 6 | M12: 1 | N12: 0 | O12: 15100 | P12: 3.48 | Q12: 234568 | R12: 398516 | S12: 459824 | T12: 43.8 | U12: 58.8 | V12: 70
A13: 马鞍山市 | B13: 0 | C13: 0 | D13: 0 | E13: 1 | F13: 0 | G13: 0 | H13: 0 | I13: 1 | J13: 4000 | K13: 95 | L13: 0 | M13: 4 | N13: 2 | O13: 24000 | P13: 73 | Q13: 29852 | R13: 39800 | S13: 90000
A14: 芜湖市 | B14: 0 | C14: 0 | D14: 0 | E14: 0 | F14: 0 | G14: 0 | H14: 0 | I14: 1 | J14: 28260 | K14: 18.4 | L14: 3 | M14: 0 | N14: 3 | O14: 7500 | P14: 4.9 | Q14: 12056 | R14: 31285 | S14: 60000
A15: 安庆市 | B15: 0 | C15: 0 | D15: 0 | E15: 1 | F15: 0 | G15: 0 | H15: 0 | I15: 186 | J15: 189756 | K15: 0 | L15: 35 | M15: 2 | N15: 16 | O15: 30257 | Q15: 248976 | R15: 468245 | S15: 576826
A16: 铜陵市 | B16: 0 | C16: 0 | D16: 0 | E16: 0 | F16: 0 | G16: 0 | H16: 0 | I16: 1 | J16: 7300 | K16: 19 | L16: 0 | M16: 0 | N16: 0 | O16: 0 | P16: 0 | Q16: 32048 | R16: 43219 | S16: 52897 | T16: 0 | U16: 8 | V16: 10
A17: 宣城市 | B17: 0 | C17: 0 | D17: 0 | E17: 0 | F17: 0 | G17: 0 | H17: 0 | I17: 4 | J17: 120214 | K17: 0 | L17: 8 | M17: 17 | N17: 0 | O17: 25498 | Q17: 256815 | R17: 486579 | S17: 598756 | T17: 10 | U17: 10 | V17: 15
A18: 池州市 | B18: 0 | C18: 0 | D18: 1 | E18: 0 | F18: 0 | G18: 0 | H18: 0 | I18: 37 | J18: 265514 | K18: 52 | L18: 1 | M18: 14 | N18: 10 | O18: 79286 | P18: 24 | Q18: 236879 | R18: 446708 | S18: 549800 | T18: 45 | U18: 80 | V18: 100
A19: 黄山市 | B19: 0 | C19: 0 | D19: 0 | E19: 0 | F19: 0 | G19: 0 | H19: 0 | I19: 10 | J19: 186879 | K19: 95 | L19: 0 | M19: 0 | N19: 0 | O19: 0 | P19: 0 | Q19: 289764 | R19: 482678 | S19: 536598 | T19: 10 | U19: 10 | V19: 10
A20: 其中：森林火灾高风险区完成量 | B20: 0 | C20: 0 | D20: 0 | E20: 7 | F20: 0 | G20: 0 | H20: 0 | I20: 238 | J20: 456345.5 | L20: 49 | M20: 44 | N20: 83 | O20: 254069 | Q20: 1427582.5 | R20: 2581914.3 | S20: 2896432 | T20: 40 | U20: 71 | V20: 80
A21: 截至目前现有数量 | B21: =SUM(B22:B34) -> 0 | C21: 1 | D21: =SUM(D22:D34) -> 1 | E21: =SUM(E22:E34) -> 45 | F21: =SUM(F22:F34) -> 0 | G21: =SUM(G22:G34) -> 0 | H21: =SUM(H22:H34) -> 0 | I21: =SUM(I22:I34) -> 268 | J21: =SUM(J22:J34) -> 1724654.7 | K21: 44 | L21: =SUM(L22:L34) -> 171 | M21: =SUM(M22:M34) -> 82 | N21: =SUM(N22:N34) -> 135 | O21: =SUM(O22:O34) -> 879288 | P21: 24 | Q21: 1479314 | R21: =SUM(R22:R34) -> 2601126 | S21: 3142988 | T21: 37 | U21: 66 | V21: 79
A22: 淮北市 | B22: 0 | C22: 0 | D22: 0 | E22: 0 | F22: 0 | G22: 0 | H22: 0 | I22: 1 | J22: 953.66 | K22: 95 | L22: 11 | M22: 0 | N22: 0 | O22: 2000 | Q22: 1052 | R22: 3052 | S22: 4050
A23: 宿州市 | B23: 0 | C23: 0 | D23: 0 | E23: 1 | F23: 0 | G23: 0 | H23: 0 | I23: 3 | J23: 6056 | K23: 62.25 | L23: 5 | M23: 0 | N23: 1 | O23: 1000 | P23: 45.32 | Q23: 1353 | R23: 8056 | S23: 25765 | T23: 23.3 | U23: 57.34 | V23: 80.6
A24: 蚌埠市 | B24: 0 | C24: 0 | D24: 0 | E24: 0 | F24: 0 | G24: 0 | H24: 0 | I24: 5 | J24: 4420 | K24: 73.7 | L24: 2 | M24: 0 | N24: 0 | O24: 1000 | P24: 16.7 | Q24: 4258 | R24: 6732 | S24: 8972 | T24: 0 | U24: 16.7 | V24: 100
A25: 淮南市 | B25: 0 | C25: 0 | D25: 0 | E25: 0 | F25: 0 | G25: 0 | H25: 0 | I25: 3 | J25: 52300 | K25: 602 | L25: 2 | M25: 0 | N25: 0 | O25: 1100 | Q25: 42630 | R25: 53400 | S25: 70000
A26: 滁州市 | B26: 0 | C26: 0 | D26: 0 | E26: 0 | F26: 0 | G26: 0 | H26: 0 | I26: 1 | J26: 77928 | K26: 71 | L26: 4 | M26: 42 | N26: 52 | O26: 97926 | P26: 90 | Q26: 89063 | R26: 132856 | S26: 109500 | T26: 81 | U26: 91 | V26: 95
A27: 六安市 | B27: 0 | C27: 0 | D27: 0 | E27: 13 | F27: 0 | G27: 0 | H27: 0 | I27: 2 | J27: 245687 | K27: 18.9 | L27: 25 | M27: 1 | N27: 0 | O27: 135978 | P27: 3.48 | Q27: 234568 | R27: 398516 | S27: 459824 | T27: 43.8 | U27: 58.8 | V27: 70
A28: 芜湖市 | B28: 0 | C28: 0 | D28: 0 | E28: 0 | F28: 0 | G28: 0 | H28: 0 | I28: 1 | J28: 28260 | K28: 18.4 | L28: 5 | N28: 5 | O28: 11500 | P28: 7.5 | Q28: 29852 | R28: 39800 | S28: 90000
A29: 马鞍山市 | B29: 0 | C29: 0 | D29: 0 | E29: 1 | F29: 0 | G29: 0 | H29: 0 | I29: 1 | J29: 4000 | K29: 95 | L29: 0 | M29: 4 | N29: 2 | O29: 24000 | P29: 73 | Q29: 12056 | R29: 31285 | S29: 60000
A30: 安庆市 | B30: 0 | C30: 0 | D30: 0 | E30: 1 | F30: 0 | G30: 0 | H30: 0 | I30: 186 | J30: 389711 | L30: 48 | M30: 2 | N30: 16 | O30: 89776 | Q30: 248976 | R30: 468245 | S30: 576826
A31: 铜陵市 | B31: 0 | C31: 0 | D31: 0 | E31: 5 | F31: 0 | G31: 0 | H31: 0 | I31: 1 | J31: 40248 | L31: 0 | M31: 4 | N31: 0 | O31: 2589 | P31: 0.3 | Q31: 32048 | R31: 43219 | S31: 52897 | T31: 0 | U31: 8 | V31: 10
A32: 宣城市 | B32: 0 | C32: 0 | D32: 0 | E32: 15 | F32: 0 | G32: 0 | H32: 0 | I32: 8 | J32: 215648 | K32: 12 | L32: 67 | M32: 0 | N32: 9 | O32: 245000 | P32: 35.7 | Q32: 256815 | R32: 486579 | S32: 598756 | T32: 10 | U32: 10 | V32: 15
A33: 池州市 | B33: 0 | C33: 0 | D33: 1 | E33: 0 | F33: 0 | G33: 0 | H33: 0 | I33: 37 | J33: 326879 | K33: 52 | L33: 2 | M33: 14 | N33: 35 | O33: 119286 | P33: 38 | Q33: 236879 | R33: 446708 | S33: 549800 | T33: 45 | U33: 80 | V33: 100
A34: 黄山市 | B34: 0 | C34: 0 | D34: 0 | E34: 9 | F34: 0 | G34: 0 | H34: 0 | I34: 19 | J34: 332564 | K34: 95 | L34: 0 | M34: 15 | N34: 15 | O34: 148133 | P34: 20 | Q34: 289764 | R34: 482678 | S34: 536598 | T34: 10 | U34: 10 | V34: 10
A35: 其中：森林火灾高风险区完成量 | B35: 0 | C35: 0 | D35: 1 | E35: 30 | F35: 0 | G35: 0 | H35: 0 | I35: 246 | J35: 457545.5 | L35: 123 | M35: 78 | N35: 115 | O35: 402213 | Q35: 1427582.5 | R35: 3636499 | S35: 3636499 | T35: 40 | U35: 71 | V35: 80
A36: 注：1、全国森林防火规划（2016—2025年）以外的建设项目可自行增加列。
A37: 2、火险区综合治理等项目，按审批建设内容拆解填表。
A38: 3、本表需填报省级合计数、所辖地级市合计数，以及本省高危区、高风险区合计数。
A39: 4、林管局、林场等省/森工集团直属单位单独成行统计填报，保护区、森林公园等自然保护地数据由其所在地市一并统计填报。

Sheet 附表3
A1: 森林防火通信和信息指挥系统现状统计表
A2: 附表3
A3: 项目名称 | B3: 森林防火通信系统建设 | U3: 森林防火信息指挥系统建设 | AA3: 火场通讯覆盖面积（林地面积） | AD3: 火场通讯覆盖率
B4: 有线综合网建设 | C4: 火场通信网络建设 | J4: 卫星通信网络建设 | R4: 应急机动通信系统建设 | U4: 森林防火指挥中心建设 | Y4: 森林防火业务软件平台建设 | Z4: 运维管理系统建设 | AA4: 规划实施前 | AB4: 2020年 | AC4: 预计规划期末 | AD4: 规划实施前 | AE4: 2020年 | AF4: 预计规划期末
C5: 数字超短波固定基站(新建) | D5: 数字超短波固定基站(升级) | E5: 数字超短波基地台 | F5: 背负台 | G5: 车载台 | H5: 语音网关 | I5: 手持台 | J5: VSAT固定站 | K5: VSAT固定小站 | L5: 便携站及视频图传系统 | M5: BGAN系统 | N5: 海事卫星电话 | O5: 北斗指挥机系统 | P5: 北斗车载台（机载台） | Q5: 北斗手持机 | R5: 大型综合通信车 | S5: 中型综合通信车 | T5: 小型综合通信车 | U5: 国家级 | V5: 省级 | W5: 地级 | X5: 县级
B6: 套 | C6: 套 | D6: 套 | E6: 套 | F6: 套 | G6: 套 | H6: 套 | I6: 台 | J6: 套 | K6: 套 | L6: 套 | M6: 套 | N6: 套 | O6: 套 | P6: 套 | Q6: 套 | R6: 辆 | S6: 辆 | T6: 辆 | U6: 处 | V6: 套 | W6: 套 | X6: 套 | Y6: 套 | Z6: 套 | AA6: 公顷 | AB6: 公顷 | AC6: 公顷 | AD6: % | AE6: % | AF6: %
A7: 2016-2020年全省合计完成量 | B7: =SUM(B8:B15) -> 1 | C7: =SUM(C8:C15) -> 1 | D7: =SUM(D8:D15) -> 0 | E7: =SUM(E8:E15) -> 0 | F7: =SUM(F8:F15) -> 0 | G7: =SUM(G8:G15) -> 6 | H7: =SUM(H8:H15) -> 0 | I7: =SUM(I8:I15) -> 1164 | J7: =SUM(J8:J15) -> 0 | K7: 0 | L7: =SUM(L8:L15) -> 0 | M7: =SUM(M8:M15) -> 0 | N7: =SUM(N8:N15) -> 0 | O7: =SUM(O8:O15) -> 1 | P7: =SUM(P8:P15) -> 0 | Q7: =SUM(Q8:Q15) -> 1 | R7: =SUM(R8:R15) -> 0 | S7: =SUM(S8:S15) -> 0 | ... Z7: =SUM(Z8:Z15) -> 1 | AA7: 3685189 | AB7: 4493300 | AC7: 4493300 | AD7: 82 | AE7: 100 | AF7: 100
A8: 蚌埠市 | B8: 0 | C8: 0 | D8: 0 | E8: 0 | F8: 0 | G8: 0 | H8: 0 | I8: 66 | J8: 0 | K8: 0 | L8: 0 | M8: 0 | N8: 0 | O8: 0 | P8: 0 | Q8: 0 | R8: 0 | S8: 0 | T8: 0 | U8: 0 | V8: 0 | W8: 0 | X8: 0 | Y8: 0 | Z8: 0
A9: 淮南市 | B9: 0 | C9: 0 | D9: 0 | E9: 0 | F9: 0 | G9: 2 | H9: 0 | I9: 10 | J9: 0 | K9: 0 | L9: 0 | M9: 0 | N9: 0 | O9: 0 | P9: 0 | Q9: 0 | R9: 0 | S9: 0 | T9: 0 | U9: 0 | V9: 0 | W9: 0 | X9: 0 | Y9: 0 | Z9: 0
A10: 安庆市 | B10: 0 | C10: 0 | D10: 0 | E10: 0 | F10: 0 | G10: 0 | H10: 0 | I10: 60 | J10: 0 | K10: 0 | L10: 0 | M10: 0 | N10: 0 | O10: 0 | P10: 0 | Q10: 0 | R10: 0 | S10: 0 | T10: 0 | U10: 0 | V10: 0 | W10: 0 | X10: 4 | Y10: 2 | Z10: 0
A11: 六安市 | B11: 0 | C11: 0 | D11: 0 | E11: 0 | F11: 0 | G11: 0 | H11: 0 | I11: 0 | J11: 0 | K11: 0 | L11: 0 | M11: 0 | N11: 0 | O11: 0 | P11: 0 | Q11: 0 | R11: 0 | S11: 0 | T11: 0 | U11: 0 | V11: 0 | W11: 1 | X11: 1 | Y11: 3 | Z11: 0
A12: 芜湖市 | B12: 1 | C12: 0 | D12: 0 | E12: 0 | F12: 0 | G12: 0 | H12: 0 | I12: 120 | J12: 0 | K12: 0 | L12: 0 | M12: 0 | N12: 0 | O12: 0 | P12: 0 | Q12: 0 | R12: 0 | S12: 0 | T12: 0 | U12: 0 | V12: 0 | W12: 1 | X12: 0 | Y12: 1 | Z12: 1
A13: 马鞍山市 | B13: 0 | C13: 0 | D13: 0 | E13: 0 | F13: 0 | G13: 2 | H13: 0 | I13: 130 | J13: 0 | K13: 0 | L13: 0 | M13: 0 | N13: 0 | O13: 0 | P13: 0 | Q13: 0 | R13: 0 | S13: 0 | T13: 0 | U13: 0 | V13: 0 | W13: 0 | X13: 1 | Y13: 0 | Z13: 0
A14: 铜陵市 | B14: 0 | C14: 1 | D14: 0 | E14: 0 | F14: 0 | G14: 0 | H14: 0 | I14: 0 | J14: 0 | K14: 0 | L14: 0 | M14: 0 | N14: 0 | O14: 0 | P14: 0 | Q14: 0 | R14: 0 | S14: 0 | T14: 0 | U14: 0 | V14: 0 | W14: 0 | X14: 1 | Y14: 0 | Z14: 0
A15: 池州市 | B15: 0 | C15: 0 | D15: 0 | E15: 0 | F15: 0 | G15: 2 | H15: 0 | I15: 778 | J15: 0 | K15: 0 | L15: 0 | M15: 0 | N15: 0 | O15: 1 | P15: 0 | Q15: 1 | R15: 0 | S15: 0 | T15: 0 | U15: 0 | V15: 0 | W15: 0 | X15: 5 | Y15: 4 | Z15: 0
A16: 其中：森林火灾高风险区完成量 | B16: 0 | C16: 1 | D16: 0 | E16: 0 | F16: 0 | G16: 4 | H16: 0 | I16: 1070 | J16: 0 | K16: 0 | L16: 0 | M16: 0 | N16: 0 | O16: 1 | P16: 0 | Q16: 1 | R16: 0 | S16: 0 | T16: 0 | U16: 0 | V16: 0 | W16: 1 | X16: 12 | Y16: 9 | Z16: 0 | AA16: 2564895 | AB16: 3636499 | AC16: 3636499 | AD16: 75 | AE16: 100 | AF16: 100
A17: 截至目前现有数量 | B17: =SUM((B18:B26)) -> 1 | C17: =SUM((C18:C26)) -> 1 | D17: =SUM((D18:D26)) -> 0 | E17: =SUM((E18:E26)) -> 0 | F17: =SUM((F18:F26)) -> 0 | G17: =SUM((G18:G26)) -> 14 | H17: =SUM((H18:H26)) -> 0 | I17: =SUM((I18:I26)) -> 1216 | ... U17: =SUM((U18:U26)) -> 0 | V17: 1 | W17: =SUM((W18:W26)) -> 5 | X17: =SUM((X18:X26)) -> 23 | Y17: =SUM((Y18:Y26)) -> 18 | Z17: =SUM((Z18:Z26)) -> 5 | AA17: 3685189 | AB17: 4493300 | AC17: 4493300 | AD17: 82 | AE17: 100 | AF17: 100
A18: 蚌埠市 | B18: 0 | C18: 0 | D18: 0 | E18: 0 | F18: 0 | G18: 0 | H18: 0 | I18: 66 | J18: 0 | K18: 0 | L18: 0 | M18: 0 | N18: 0 | O18: 0 | P18: 0 | Q18: 0 | R18: 0 | S18: 0 | T18: 0 | U18: 0 | V18: 0 | W18: 0 | X18: 0 | Y18: 0 | Z18: 0
A19: 淮南市 | B19: 0 | C19: 0 | D19: 0 | E19: 0 | F19: 0 | G19: 2 | H19: 0 | I19: 10 | J19: 0 | K19: 0 | L19: 0 | M19: 0 | N19: 0 | O19: 0 | P19: 0 | Q19: 0 | R19: 0 | S19: 0 | T19: 0 | U19: 0 | V19: 0 | W19: 1 | X19: 7 | Y19: 0 | Z19: 0
A20: 安庆市 | B20: 0 | C20: 0 | D20: 0 | E20: 0 | F20: 0 | G20: 0 | H20: 0 | I20: 60 | J20: 0 | K20: 0 | L20: 0 | M20: 0 | N20: 0 | O20: 0 | P20: 0 | Q20: 0 | R20: 0 | S20: 0 | T20: 0 | U20: 0 | V20: 0 | W20: 1 | X20: 4 | Y20: 2 | Z20: 0
A21: 六安市 | B21: 0 | C21: 0 | D21: 0 | E21: 0 | F21: 0 | G21: 0 | H21: 0 | I21: 52 | J21: 0 | K21: 0 | L21: 0 | M21: 0 | N21: 1 | O21: 0 | P21: 0 | Q21: 1 | R21: 0 | S21: 0 | T21: 0 | U21: 0 | V21: 0 | W21: 1 | X21: 1 | Y21: 3 | Z21: 0
A22: 芜湖市 | B22: 1 | C22: 0 | D22: 0 | E22: 0 | F22: 0 | G22: 0 | H22: 0 | I22: 120 | J22: 0 | K22: 0 | L22: 0 | M22: 0 | N22: 0 | O22: 0 | P22: 0 | Q22: 0 | R22: 0 | S22: 0 | T22: 0 | U22: 0 | V22: 0 | W22: 1 | X22: 0 | Y22: 1 | Z22: 1
A23: 马鞍山市 | B23: 0 | C23: 0 | D23: 0 | E23: 0 | F23: 0 | G23: 2 | H23: 0 | I23: 130 | J23: 0 | K23: 0 | L23: 0 | M23: 0 | N23: 0 | O23: 0 | P23: 0 | Q23: 0 | R23: 0 | S23: 0 | T23: 0 | U23: 0 | V23: 0 | W23: 0 | X23: 1 | Y23: 0 | Z23: 0
A24: 铜陵市 | B24: 0 | C24: 1 | D24: 0 | E24: 0 | F24: 0 | G24: 3 | H24: 0 | I24: 0 | J24: 0 | K24: 0 | L24: 0 | M24: 0 | N24: 0 | O24: 0 | P24: 0 | Q24: 0 | R24: 0 | S24: 0 | T24: 0 | U24: 0 | V24: 0 | W24: 0 | X24: 1 | Y24: 0 | Z24: 0
A25: 池州市 | B25: 0 | C25: 0 | D25: 0 | E25: 0 | F25: 0 | G25: 2 | H25: 0 | I25: 778 | J25: 0 | K25: 0 | L25: 0 | M25: 0 | N25: 0 | O25: 1 | P25: 0 | Q25: 1 | R25: 0 | S25: 0 | T25: 0 | U25: 0 | V25: 0 | W25: 0 | X25: 5 | Y25: 4 | Z25: 0
A26: 黄山市 | B26: 0 | C26: 0 | D26: 0 | E26: 0 | F26: 0 | G26: 5 | H26: 0 | I26: 0 | J26: 0 | K26: 0 | L26: 0 | M26: 0 | N26: 1 | O26: 0 | P26: 0 | Q26: 2 | R26: 0 | S26: 0 | T26: 0 | U26: 0 | V26: 0 | W26: 1 | X26: 4 | Y26: 8 | Z26: 4
A27: 其中：森林火灾高风险区完成量 | B27: 0 | C27: 1 | D27: 0 | E27: 0 | F27: 0 | G27: 5 | H27: 0 | I27: 1070 | J27: 0 | K27: 0 | L27: 0 | M27: 0 | N27: 2 | O27: 1 | P27: 0 | Q27: 4 | R27: 0 | S27: 0 | T27: 0 | U27: 0 | V27: 0 | W27: 2 | X27: 12 | Y27: 15 | Z27: 4 | AA27: 2564895 | AB27: 3636499 | AC27: 3636499 | AD27: 75 | AE27: 100 | AF27: 100
A28: 注：1、全国森林防火规划（2016—2025年）以外的建设项目可自行增加列。
A29: 2、火险区综合治理等项目，按审批建设内容拆解填表。
A30: 3、本表需填报省级合计数、所辖地级市合计数，以及本省高危区、高风险区合计数。
A31: 4、林管局、林场等省/森工集团直属单位单独成行统计填报，保护区、森林公园等自然保护地数据由其所在地市一并统计填报。

Sheet 附表4
A1: 森林消防队伍能力建设现状统计表
A2: 附表4
A3: 项目名称 | B3: 专业队伍建设 | J3: 森林消防专业队伍标准化建设 | S3: 以水灭火设施设备建设 | V3: 大型装备建设 | X3: 森林防火野外实训基地 | Y3: 森林防火专业队伍配备数量 | AB3: 重点区域县级行政单位森林防火专业队伍配备率
B4: 合计 | C4: 其中归林草部门管理 | D4: 其中归应急部门管理 | E4: 其他（请备注说明） | F4: 合计 | G4: 其中归林草部门管理 | H4: 其中归应急部门管理 | I4: 其他（请备注说明） | J4: 完善提升专业队装备（标准化建设） | K4: 装备风力灭火机械化队伍 | L4: 风力灭火机、油锯、割灌机等基本灭火机具 | M4: 运兵车、机具车、消防艇等防火车辆 | N4: 队员安全防护装备和野外生存装备 | O4: 新建专业队营房 | P4: 新建专业队营房 | Q4: 改扩建专业队伍营房 | R4: 扑火前指挥基地 | S4: 装备以水灭火队伍 | T4: 以水灭火装备 | U4: 以水灭火水源地 | V4: 装备大型装备专业队伍 | W4: 配备大型装备 | X4: 国家森林防火野外实训基地 | Y4: 规划实施前 | Z4: 2020年 | AA4: 预计规划期末 | AB4: 规划实施前 | AC4: 2020年 | AD4: 预计规划期末
B5: 支 | C5: 支 | D5: 支 | E5: 支 | F5: 人 | G5: 人 | H5: 人 | I5: 人 | J5: 支 | K5: 支 | L5: 台 | M5: 辆 | N5: 套 | O5: 平方米 | P5: 座 | Q5: 平方米 | R5: 处 | S5: 支 | T5: 台 | U5: 处 | V5: 支 | W5: 辆 | X5: 处 | Y5: 支 | Z5: 支 | AA5: 支 | AB5: % | AC5: % | AD5: %
A6: 2016-2020年全省合计完成量 | B6: =SUM(B7:B16) -> 110 | C6: =SUM(C7:C16) -> 98 | D6: =SUM(D7:D16) -> 9 | E6: =SUM(E7:E16) -> 3 | F6: =SUM(F7:F16) -> 2879 | G6: =SUM(G7:G16) -> 2209 | H6: =SUM(H7:H16) -> 475 | I6: =SUM(I7:I16) -> 195 | ... O6: =SUM(O7:O16) -> 7464 | Q6: =SUM(Q7:Q16) -> 2353 | R6: =SUM(R7:R16) -> 4 | S6: =SUM(S7:S16) -> 36 | T6: =SUM(T7:T16) -> 452 | U6: =SUM(U7:U16) -> 1114 | V6: =SUM(V7:V16) -> 0 | W6: =SUM(W7:W16) -> 0 | X6: =SUM(X7:X16) -> 5 | ... AA6: =SUM(AA7:AA16) -> 146 | AB6: 80 | AC6: 100 | AD6: 100
A7: 蚌埠市 | B7: 2 | C7: 0 | D7: 2 | E7: 0 | F7: 50 | G7: 0 | H7: 50 | I7: 0 | J7: 2 | K7: 2 | L7: 50 | M7: 2 | N7: 50 | O7: 1000 | Q7: 0 | R7: 1 | S7: 3 | T7: 3 | U7: 9 | V7: 0 | W7: 0 | X7: 0 | Y7: 0 | Z7: 2 | AA7: 4 | AB7: 0 | AC7: 100 | AD7: 100
A8: 滁州市 | B8: 50 | C8: 50 | D8: 0 | E8: 0 | F8: 900 | G8: 900 | H8: 0 | I8: 0 | J8: 50 | K8: 50 | L8: 600 | M8: 30 | N8: 346 | O8: 400 | Q8: 300 | R8: 2 | S8: 12 | T8: 106 | U8: 29 | V8: 0 | W8: 0 | X8: 3 | Y8: 50 | Z8: 50 | AA8: 50 | AB8: 0 | AC8: 0 | AD8: 100
A9: 六安市 | B9: 0 | C9: 0 | D9: 0 | E9: 0 | F9: 0 | G9: 0 | H9: 0 | I9: 0 | J9: 0 | K9: 0 | L9: 626 | M9: 12 | N9: 340 | O9: 1043 | Q9: 0 | R9: 0 | S9: 0 | T9: 131 | U9: 0 | V9: 0 | W9: 0 | X9: 0 | Y9: 0 | Z9: 0 | AA9: 0
A10: 芜湖市 | B10: 6 | C10: 6 | D10: 0 | E10: 0 | F10: 136 | G10: 136 | H10: 0 | I10: 0 | J10: 0 | K10: 6 | L10: 217 | M10: 6 | N10: 136 | O10: 0 | Q10: 0 | R10: 0 | S10: 3 | T10: 32 | U10: 180 | V10: 0 | W10: 0 | X10: 0 | Y10: 9 | Z10: 6 | AA10: 6 | AB10: 100 | AC10: 100 | AD10: 100
A11: 宿州市 | B11: 7 | C11: 7 | D11: 0 | E11: 0 | F11: 167 | G11: 167 | H11: 0 | I11: 0 | J11: 7 | K11: 7 | L11: 150 | M11: 7 | N11: 150 | O11: 0 | Q11: 0 | R11: 0 | S11: 0 | T11: 0 | U11: 0 | V11: 0 | W11: 0 | X11: 0 | Y11: 7 | Z11: 7 | AA11: 7
A12: 马鞍山市 | B12: 12 | C12: 12 | D12: 0 | E12: 0 | F12: 302 | G12: 302 | H12: 0 | I12: 0 | J12: 5 | K12: 12 | L12: 471 | M12: 14 | N12: 0 | O12: 0 | Q12: 150 | R12: 0 | S12: 2 | T12: 10 | U12: 4 | V12: 0 | W12: 0 | X12: 2 | Y12: 12 | Z12: 15 | AA12: 18 | AB12: 59 | AC12: 76 | AD12: 100
A13: 铜陵市 | B13: 3 | C13: 2 | D13: 1 | E13: 0 | F13: 70 | G13: 45 | H13: 25 | I13: 0 | J13: 0 | K13: 2 | L13: 50 | M13: 1 | N13: 45 | O13: 0 | Q13: 0 | R13: 0 | S13: 1 | T13: 9 | U13: 100 | V13: 0 | W13: 0 | X13: 0 | Y13: 1 | Z13: 1 | AA13: 1 | AB13: 80 | AC13: 80 | AD13: 100
A14: 池州市 | B14: 10 | C14: 10 | D14: 0 | E14: 0 | F14: 345 | G14: 345 | H14: 0 | I14: 0 | J14: 35 | K14: 34 | L14: 390 | M14: 29 | N14: 1326 | O14: 1021 | Q14: 1397 | R14: 0 | S14: 4 | T14: 45 | U14: 42 | V14: 0 | W14: 0 | X14: 0 | Y14: 13 | Z14: 23 | AA14: 38 | AB14: 25 | AC14: 95 | AD14: 100
A15: 黄山市 | B15: 9 | C15: 7 | D15: 1 | E15: 1 | F15: 489 | G15: 149 | H15: 200 | I15: 140 | J15: 7 | K15: 7 | L15: 160 | M15: 0 | N15: 319 | O15: 0 | Q15: 6 | R15: 0 | S15: 7 | T15: 62 | U15: 692 | V15: 0 | W15: 0 | X15: 0 | Y15: 7 | Z15: 7 | AA15: 8 | AB15: 90 | AC15: 90 | AD15: 100
A16: 安庆市 | B16: 11 | C16: 4 | D16: 5 | E16: 2 | F16: 420 | G16: 165 | H16: 200 | I16: 55 | J16: 4 | K16: 226 | L16: 1734 | M16: 11 | N16: 323 | O16: 4000 | Q16: 500 | R16: 1 | S16: 4 | T16: 54 | U16: 58 | V16: 0 | W16: 0 | X16: 0 | Y16: 3 | Z16: 10 | AA16: 14 | AC16: 100 | AD16: 100
A17: 其中：森林火灾高风险区完成量 | B17: 78 | C17: 77 | D17: 1 | E17: 0 | F17: 2172 | G17: 1807 | H17: 225 | I17: 140 | J17: 90 | K17: 101 | L17: 1614 | M17: 77 | N17: 1783 | O17: 1421 | Q17: 1847 | R17: 2 | S17: 22 | T17: 202 | U17: 295 | V17: 0 | W17: 0 | X17: 5 | Y17: 68 | Z17: 77 | AA17: 92
A18: 截至目前现有数量 | B18: =SUM(B19:B29) -> 167 | C18: =SUM(C19:C29) -> 133 | D18: =SUM(D19:D29) -> 29 | E18: =SUM(E19:E29) -> 5 | F18: =SUM(F19:F29) -> 3762 | G18: =SUM(G19:G29) -> 2852 | H18: =SUM(H19:H29) -> 632 | I18: =SUM(I19:I29) -> 278 | ... O18: =SUM(O19:O29) -> 9644 | Q18: =SUM(Q19:Q29) -> 2753 | R18: =SUM(R19:R29) -> 4 | S18: =SUM(S19:S29) -> 73 | T18: =SUM(T19:T29) -> 581 | U18: =SUM(U19:U29) -> 1738 | V18: =SUM(V19:V29) -> 0 | W18: =SUM(W19:W29) -> 0 | X18: =SUM(X19:X29) -> 5 | ... AA18: =SUM(AA19:AA29) -> 176 | AB18: 80 | AC18: 100 | AD18: 100
A19: 蚌埠市 | B19: 2 | C19: 0 | D19: 2 | E19: 0 | F19: 50 | G19: 0 | H19: 50 | I19: 0 | J19: 2 | K19: 2 | L19: 50 | M19: 2 | N19: 50 | O19: 1000 | Q19: 0 | R19: 1 | S19: 3 | T19: 3 | U19: 9 | V19: 0 | W19: 0 | X19: 0 | Y19: 0 | Z19: 2 | AA19: 4 | AB19: 0 | AC19: 100 | AD19: 100
A20: 宿州市 | B20: 7 | C20: 7 | D20: 0 | E20: 0 | F20: 167 | G20: 167 | H20: 0 | I20: 0 | J20: 7 | K20: 7 | L20: 150 | M20: 7 | N20: 150 | O20: 0 | Q20: 0 | R20: 0 | S20: 0 | T20: 0 | U20: 0 | V20: 0 | W20: 0 | X20: 0 | Y20: 7 | Z20: 7 | AA20: 7
A21: 滁州市 | B21: 50 | C21: 50 | D21: 0 | E21: 0 | F21: 900 | G21: 900 | H21: 0 | I21: 0 | J21: 50 | K21: 50 | L21: 600 | M21: 30 | N21: 346 | O21: 400 | Q21: 300 | R21: 2 | S21: 12 | T21: 106 | U21: 29 | V21: 0 | W21: 0 | X21: 3 | Y21: 50 | Z21: 50 | AA21: 50 | AB21: 0 | AC21: 0 | AD21: 100
A22: 六安市 | B22: 25 | C22: 7 | D22: 18 | E22: 0 | F22: 228 | G22: 78 | H22: 150 | I22: 0 | J22: 3 | K22: 25 | L22: 1523 | M22: 30 | N22: 570 | O22: 1693 | Q22: 0 | R22: 0 | S22: 1 | T22: 131 | U22: 50 | V22: 0 | W22: 0 | X22: 0 | Y22: 19 | Z22: 24 | AA22: 27 | AB22: 84 | AC22: 94 | AD22: 100
A23: 芜湖市 | B23: 6 | C23: 6 | D23: 0 | E23: 0 | F23: 136 | G23: 136 | H23: 0 | I23: 0 | J23: 0 | K23: 6 | L23: 217 | M23: 6 | N23: 136 | O23: 0 | Q23: 0 | R23: 0 | S23: 3 | T23: 32 | U23: 180 | V23: 0 | W23: 0 | X23: 0 | Y23: 9 | Z23: 6 | AA23: 6 | AB23: 100 | AC23: 100 | AD23: 100
A24: 马鞍山市 | B24: 12 | C24: 12 | D24: 0 | E24: 0 | F24: 302 | G24: 302 | H24: 0 | I24: 0 | J24: 5 | K24: 12 | L24: 471 | M24: 14 | N24: 0 | O24: 0 | Q24: 150 | R24: 0 | S24: 2 | T24: 10 | U24: 4 | V24: 0 | W24: 0 | X24: 2
A25: 铜陵市 | B25: 5 | C25: 4 | D25: 1 | E25: 0 | F25: 140 | G25: 115 | H25: 25 | I25: 0 | J25: 0 | K25: 19 | L25: 84 | M25: 3 | N25: 75 | O25: 230 | Q25: 100 | R25: 0 | S25: 5 | T25: 42 | U25: 615 | V25: 0 | W25: 0 | X25: 0 | Y25: 4 | Z25: 5 | AA25: 5 | AB25: 80 | AC25: 80 | AD25: 100
A26: 池州市 | B26: 23 | C26: 23 | D26: 0 | E26: 0 | F26: 601 | G26: 601 | H26: 0 | I26: 0 | J26: 35 | K26: 34 | L26: 390 | M26: 29 | N26: 1326 | O26: 1021 | Q26: 1397 | R26: 0 | S26: 4 | T26: 45 | U26: 42 | V26: 0 | W26: 0 | X26: 0 | Y26: 13 | Z26: 23 | AA26: 38 | AB26: 59 | AC26: 95 | AD26: 100
A27: 黄山市 | B27: 9 | C27: 7 | D27: 1 | E27: 1 | F27: 489 | G27: 149 | H27: 200 | I27: 140 | J27: 7 | K27: 7 | L27: 160 | M27: 0 | N27: 319 | O27: 0 | Q27: 6 | R27: 0 | S27: 7 | T27: 62 | U27: 692 | V27: 0 | W27: 0 | X27: 0 | Y27: 7 | Z27: 7 | AA27: 8 | AB27: 90 | AC27: 90 | AD27: 100
A28: 宣城市 | B28: 17 | C28: 13 | D28: 2 | E28: 2 | F28: 329 | G28: 239 | H28: 7 | I28: 83 | J28: 13 | K28: 15 | L28: 706 | M28: 29 | N28: 331 | O28: 1300 | Q28: 300 | R28: 0 | S28: 32 | T28: 96 | U28: 59 | V28: 0 | W28: 0 | X28: 0 | Y28: 15 | Z28: 17 | AA28: 17 | AB28: 88.2 | AC28: 100 | AD28: 100
A29: 安庆市 | B29: 11 | C29: 4 | D29: 5 | E29: 2 | F29: 420 | G29: 165 | H29: 200 | I29: 55 | J29: 4 | K29: 226 | L29: 1734 | M29: 11 | N29: 323 | O29: 4000 | Q29: 500 | R29: 1 | S29: 4 | T29: 54 | U29: 58 | V29: 0 | W29: 0 | X29: 0 | Y29: 3 | Z29: 10 | AA29: 14 | AC29: 100 | AD29: 100
A30: 其中：森林火灾高风险区完成量 | B30: =(((68+(SUM(B31:B35)))+23)+11)+17 -> 119 | C30: =(((67+(SUM(C31:C35)))+23)+4)+13 -> 107 | D30: =(((1+(SUM(D31:D35)))+0)+5)+2 -> 8 | E30: =(((0+(SUM(E31:E35)))+0)+2)+2 -> 4 | F30: 3177 | G30: =((((1313+(SUM(G31:G35)))+601)+165)+239)+149 -> 2467 | H30: =((((25+(SUM(H31:H35)))+0)+200)+7)+200 -> 432 | I30: =((((0+(SUM(I31:I35)))+0)+55)+83)+140 -> 278 | J30: =(((55+(SUM(J31:J35)))+35)+4)+13 -> 107 | K30: =(((67+(SUM(K31:K35)))+34)+226)+15 -> 342 | L30: =(((1224+(SUM(L31:L35)))+390)+1734)+706 -> 4054 | M30: =(((48+(SUM(M31:M35)))+29)+11)+29 -> 117 | N30: =(((457+(SUM(N31:N35)))+1326)+323)+331 -> 2437 | O30: =(((400+(SUM(O31:O35)))+1021)+4000)+1300 -> 6721 | Q30: =(((450+(SUM(Q31:Q35)))+1397)+500)+300 -> 2647 | R30: =(((2+(SUM(R31:R35)))+0)+1)+0 -> 3 | S30: =(((18+(SUM(S31:S35)))+4)+4)+32 -> 58 | T30: =(((157+(SUM(T31:T35)))+45)+54)+96 -> 352 | U30: =(((253+(SUM(U31:U35)))+42)+58)+59 -> 412 | V30: =(((0+(SUM(V31:V35)))+0)+0)+0 -> 0 | W30: =(((0+(SUM(W31:W35)))+0)+0)+0 -> 0 | X30: =(((5+(SUM(X31:X35)))+0)+0)+0 -> 5 | Y30: 99 | Z30: =(((54+(SUM(Z31:Z35)))+23)+10)+17 -> 104 | AA30: 161
A31: 注：1、已建专业队需单独附批复文件（政府、政府主管部门或国有林局下发的文件均可）。
A32: 2、全国森林防火规划（2016—2025年）以外的建设项目可自行增加列。
A33: 3、火险区综合治理等项目，按审批建设内容拆解填表。
A34: 4、本表需填报省级合计数、所辖地级市合计数，以及本省高危区、高风险区合计数。
A35: 5、林管局、林场等省/森工集团直属单位单独成行统计填报，保护区、森林公园等自然保护地数据由其所在地市一并统计填报。

Sheet 附表5
A1: 森林航空消防能力建设现状统计表
A2: 附表5
A3: 项目名称 | B3: 新建航站 | L3: 升级完善航站 | N3: 总站完善工程 | R3: 火场侦察系统 | S3: 无人机等新技术应用 | T3: 航空消防取水水源地 | U3: 航空消防覆盖面积（林地面积） | X3: 航空消防覆盖率
B4: 林－Ⅱ | D4: 林－Ⅲ | F4: 林－直Ⅰ | H4: 林－直Ⅱ | J4: 依托航站 | L4: 航站升级 | M4: 航站完善 | N4: 北方总站完善工程 | P4: 南方总站完善工程 | U4: 规划实施前 | V4: 2020年 | W4: 预计规划期末 | X4: 规划实施前 | Y4: 2020年 | Z4: 预计规划期末
B5: 个 | C5: 名称 | D5: 个 | E5: 名称 | F5: 个 | G5: 名称 | H5: 个 | I5: 名称 | J5: 个 | K5: 名称 | L5: 个 | M5: 个 | R5: 套 | S5: 套 | T5: 处 | U5: 公顷 | V5: 公顷 | W5: 公顷 | X5: % | Y5: % | Z5: %
A6: 2016-2020年全省合计完成量 | B6: 0 | D6: 0 | F6: 0 | H6: 0 | J6: 0 | L6: 0 | N6: 建设项目名称1 | O6: 建设项目工程量1 | P6: 建设项目名称1 | Q6: 建设项目工程量1 | R6: 0 | S6: 0 | T6: 0 | U6: 0 | V6: 0 | X6: 0 | Y6: 0
B7: 0 | D7: 0 | F7: 0 | H7: 0 | J7: 0 | L7: 0 | N7: 建设项目名称2 | O7: 建设项目工程量2 | P7: 建设项目名称2 | Q7: 建设项目工程量2 | R7: 0 | S7: 0 | T7: 0 | U7: 0 | V7: 0 | X7: 0 | Y7: 0
B8: 0 | D8: 0 | F8: 0 | H8: 0 | J8: 0 | L8: 0 | N8: 建设项目名称n | O8: 建设项目工程量n | P8: 建设项目名称n | Q8: 建设项目工程量n | R8: 0 | S8: 0 | T8: 0 | U8: 0 | V8: 0 | X8: 0 | Y8: 0
A9: 其中：森林火灾高危区完成量 | B9: 0 | D9: 0 | F9: 0 | H9: 0 | J9: 0 | L9: 0 | R9: 0 | S9: 0 | T9: 0 | U9: 0 | V9: 0 | X9: 0 | Y9: 0
A10: 其中：森林火灾高风险区完成量 | B10: 0 | D10: 0 | F10: 0 | H10: 0 | J10: 0 | L10: 0 | R10: 0 | S10: 0 | T10: 0 | U10: 0 | V10: 0 | X10: 0 | Y10: 0
A11: 截至目前现有数量 | B11: 0 | D11: 0 | F11: 0 | H11: 0 | J11: 0 | L11: 0 | N11: 建设项目名称1 | O11: 建设项目工程量1 | P11: 建设项目名称1 | Q11: 建设项目工程量1 | R11: 0 | S11: 0 | T11: 0 | U11: 0 | V11: 0 | X11: 0 | Y11: 0
B12: 0 | D12: 0 | F12: 0 | H12: 0 | J12: 0 | L12: 0 | N12: 建设项目名称2 | O12: 建设项目工程量2 | P12: 建设项目名称2 | Q12: 建设项目工程量2 | R12: 0 | S12: 0 | T12: 0 | U12: 0 | V12: 0 | X12: 0 | Y12: 0
B13: 0 | D13: 0 | F13: 0 | H13: 0 | J13: 0 | L13: 0 | N13: 建设项目名称n | O13: 建设项目工程量n | P13: 建设项目名称n | Q13: 建设项目工程量n | R13: 0 | S13: 0 | T13: 0 | U13: 0 | V13: 0 | X13: 0 | Y13: 0
A14: 其中：森林火灾高危区完成量 | B14: 0 | D14: 0 | F14: 0 | H14: 0 | J14: 0 | L14: 0 | R14: 0 | S14: 0 | T14: 0 | U14: 0 | V14: 0 | X14: 0 | Y14: 0
A15: 其中：森林火灾高风险区完成量 | B15: 0 | D15: 0 | F15: 0 | H15: 0 | J15: 0 | L15: 0 | R15: 0 | S15: 0 | T15: 0 | U15: 0 | V15: 0 | X15: 0 | Y15: 0
A16: 注：1、全国森林防火规划（2016—2025年）以外的建设项目可自行增加列。
A17: 2、火险区综合治理等项目，按审批建设内容拆解填表。
A18: 3、本表需填报省级合计数、所辖地级市合计数，以及本省高危区、高风险区合计数。

Sheet 附表6
A1: 林火阻隔系统建设现状统计表
A2: 附表6
A3: 项目名称 | B3: 合计 | C3: 工程阻隔带 | F3: 生物防火阻隔带 | I3: 边境防火隔离带 | Q3: 阻隔网密度
C4: 小计 | D4: 生土带 | E4: 防火线 | F4: 小计 | G4: 林内 | H4: 林缘 | I4: 合计 | J4: 中俄 | K4: 中蒙 | L4: 中缅 | M4: 中越 | N4: 中老 | O4: 中朝 | P4: 其他 | Q4: 规划实施前 | R4: 2020年 | S4: 预计规划期末
B5: 公里 | C5: 公里 | D5: 公里 | E5: 公里 | F5: 公里 | G5: 公里 | H5: 公里 | I5: 公里 | J5: 公里 | K5: 公里 | L5: 公里 | M5: 公里 | N5: 公里 | O5: 公里 | P5: 公里 | Q5: 米/公顷 | R5: 米/公顷 | S5: 米/公顷
A6: 2016-2020年全省合计完成量 | B6: =SUM(B7:B16) -> 4784.73 | C6: =SUM(C7:C16) -> 1780.8 | D6: =SUM(D7:D16) -> 456.8 | E6: =SUM(E7:E16) -> 1324 | F6: =SUM(F7:F16) -> 3003.93 | G6: =SUM(G7:G16) -> 1361.61 | H6: =SUM(H7:H16) -> 1642.32 | I6: 0 | J6: 0 | K6: 0 | L6: 0 | M6: 0 | N6: 0 | O6: 0 | P6: 0 | Q6: 2.49 | R6: 3.6 | S6: 4.9
A7: 合肥市 | B7: 283 | C7: 220 | D7: 100 | E7: 120 | F7: 63 | G7: 60 | H7: 3 | I7: 0 | J7: 0 | K7: 0 | L7: 0 | M7: 0 | N7: 0 | O7: 0 | P7: 0
A8: 蚌埠市 | B8: 473 | C8: 293 | D8: 138 | E8: 155 | F8: 180 | G8: 50 | H8: 130 | I8: 0 | J8: 0 | K8: 0 | L8: 0 | M8: 0 | N8: 0 | O8: 0 | P8: 0 | Q8: 11 | R8: 19.8 | S8: 19.8
A9: 淮南市 | B9: 15 | C9: 10 | D9: 0 | E9: 10 | F9: 5 | G9: 5 | H9: 0 | I9: 0 | J9: 0 | K9: 0 | L9: 0 | M9: 0 | N9: 0 | O9: 0 | P9: 0 | Q9: 2.6 | R9: 5.1
A10: 滁州市 | B10: 916 | C10: 553 | D10: 69 | E10: 484 | F10: 363 | G10: 196 | H10: 167 | I10: 0 | J10: 0 | K10: 0 | L10: 0 | M10: 0 | N10: 0 | O10: 0 | P10: 0 | Q10: 4 | R10: 5 | S10: 6
A11: 六安市 | B11: 479 | C11: 325 | D11: 0 | E11: 325 | F11: 154 | G11: 154 | H11: 0 | I11: 0 | J11: 0 | K11: 0 | L11: 0 | M11: 0 | N11: 0 | O11: 0 | P11: 0 | Q11: 2 | R11: 2.645 | S11: 5.35
A12: 芜湖市 | B12: 93 | C12: 0 | D12: 0 | E12: 0 | F12: 93 | G12: 0 | H12: 93 | I12: 0 | J12: 0 | K12: 0 | L12: 0 | M12: 0 | N12: 0 | O12: 0 | P12: 0 | Q12: 1.44 | R12: 2.35 | S12: 2.35
A13: 马鞍山市 | B13: 167 | C13: 20 | D13: 0 | E13: 20 | F13: 147 | G13: 86 | H13: 61 | I13: 0 | J13: 0 | K13: 0 | L13: 0 | M13: 0 | N13: 0 | O13: 0 | P13: 0 | Q13: 3 | R13: 4 | S13: 5
A14: 铜陵市 | B14: 1064 | C14: 24 | D14: 4 | E14: 20 | F14: 1040 | G14: 40 | H14: 1000 | I14: 0 | J14: 0 | K14: 0 | L14: 0 | M14: 0 | N14: 0 | O14: 0 | P14: 0 | Q14: 3 | R14: 3 | S14: 4
A15: 池州市 | B15: 145.8 | C15: 25.8 | D15: 25.8 | E15: 0 | F15: 120 | G15: 30 | H15: 90 | I15: 0 | J15: 0 | K15: 0 | L15: 0 | M15: 0 | N15: 0 | O15: 0 | P15: 0 | Q15: 0 | R15: 1.7 | S15: 19
A16: 安庆市 | B16: 1148.93 | C16: 310 | D16: 120 | E16: 190 | F16: 838.93 | G16: 740.61 | H16: 98.32 | I16: 0 | J16: 0 | K16: 0 | L16: 0 | M16: 0 | N16: 0 | O16: 0 | P16: 0
A17: 其中：森林火灾高风险区完成量 | B17: 4241.73 | C17: 1494.8 | D17: 318.8 | E17: 1176 | F17: 2746.93 | G17: 1266.61 | H17: 1480.32 | I17: 0 | J17: 0 | K17: 0 | L17: 0 | M17: 0 | N17: 0 | O17: 0 | P17: 0 | Q17: 2.7 | R17: 3.845 | S17: 4.7
A18: 其中：大别山森林防火重点区生物阻隔带建设 | B18: 454.31 | C18: 0 | D18: 0 | E18: 0 | F18: 451.31 | G18: 371.31 | H18: 80 | I18: 0 | J18: 0 | K18: 0 | L18: 0 | M18: 0 | N18: 0 | O18: 0 | P18: 0 | Q18: —— | R18: —— | S18: ——
A19: 截至目前现有数量 | B19: 14482.7 | C19: =SUM(C20:C31) -> 4157.7 | D19: =SUM(D20:D31) -> 516.8 | E19: =SUM(E20:E31) -> 3640.9 | F19: 10870.8 | G19: =SUM(G20:G31) -> 4162.2 | H19: =SUM(H20:H31) -> 6708.6 | I19: 0 | J19: 0 | K19: 0 | L19: 0 | M19: 0 | N19: 0 | O19: 0 | P19: 0 | Q19: 2.49 | R19: 3.6 | S19: 4.9
A20: 合肥市 | B20: 283 | C20: 220 | D20: 100 | E20: 120 | F20: 63 | G20: 60 | H20: 3 | I20: 0 | J20: 0 | K20: 0 | L20: 0 | M20: 0 | N20: 0 | O20: 0 | P20: 0
A21: 蚌埠市 | B21: 473 | C21: 293 | D21: 138 | E21: 155 | F21: 180 | G21: 50 | H21: 130 | I21: 0 | J21: 0 | K21: 0 | L21: 0 | M21: 0 | N21: 0 | O21: 0 | P21: 0 | Q21: 11 | R21: 19.8 | S21: 19.8
A22: 淮南市 | B22: 20 | C22: 15 | D22: 0 | E22: 15 | F22: 5 | G22: 5 | H22: 0 | I22: 0 | J22: 0 | K22: 0 | L22: 0 | M22: 0 | N22: 0 | O22: 0 | P22: 0 | R22: 5.1
A23: 滁州市 | B23: 1723 | C23: 1286 | D23: 69 | E23: 1217 | F23: 437 | G23: 270 | H23: 167 | I23: 0 | J23: 0 | K23: 0 | L23: 0 | M23: 0 | N23: 0 | O23: 0 | P23: 0 | Q23: 4 | R23: 5 | S23: 6
A24: 六安市 | B24: 1805 | C24: 1520 | D24: 0 | E24: 1520 | F24: 1350 | G24: 368 | H24: 982 | I24: 0 | J24: 0 | K24: 0 | L24: 0 | M24: 0 | N24: 0 | O24: 0 | P24: 0 | Q24: 2 | R24: 2.645 | S24: 5.35
A25: 芜湖市 | B25: 361 | C25: 0 | D25: 0 | E25: 0 | F25: 361 | G25: 0 | H25: 361 | I25: 0 | J25: 0 | K25: 0 | L25: 0 | M25: 0 | N25: 0 | O25: 0 | P25: 0
A26: 马鞍山市 | B26: 167 | C26: 20 | D26: 0 | E26: 20 | F26: 147 | G26: 86 | H26: 61 | I26: 0 | J26: 0 | K26: 0 | L26: 0 | M26: 0 | N26: 0 | O26: 0 | P26: 0
A27: 铜陵市 | B27: 3075.9 | C27: 462.9 | D27: 64 | E27: 398.9 | F27: 2613 | G27: 103 | H27: 2510 | I27: 0 | J27: 0 | K27: 0 | L27: 0 | M27: 0 | N27: 0 | O27: 0 | P27: 0 | Q27: 2 | R27: 2 | S27: 3
A28: 池州市 | B28: 815.1 | C28: 25.8 | D28: 25.8 | E28: 0 | F28: 789.3 | G28: 675.3 | H28: 114 | I28: 0 | J28: 0 | K28: 0 | L28: 0 | M28: 0 | N28: 0 | O28: 0 | P28: 0 | Q28: 0 | R28: 1.7 | S28: 19
A29: 黄山市 | B29: 1850.5 | C29: 5 | D29: 0 | E29: 5 | F29: 1845.5 | G29: 793.9 | H29: 1051.6 | I29: 0 | J29: 0 | K29: 0 | L29: 0 | M29: 0 | N29: 0 | O29: 0 | P29: 0 | Q29: 1.2 | R29: 1.8 | S29: 2.1
A30: 宣城市 | B30: 926 | C30: 0 | D30: 0 | E30: 0 | F30: 926 | G30: 662 | H30: 264
A31: 安庆市 | B31: 1148.93 | C31: 310 | D31: 120 | E31: 190 | F31: 2154 | G31: 1089 | H31: 1065 | I31: 0 | J31: 0 | K31: 0 | L31: 0 | M31: 0 | N31: 0 | O31: 0 | P31: 0
A32: 其中：森林火灾高风险区完成量 | B32: 13985 | C32: 4058 | D32: 198.8 | E32: 2186 | F32: 9927 | G32: 2021.2 | H32: 2599.6 | I32: 0 | J32: 0 | K32: 0 | L32: 0 | M32: 0 | N32: 0 | O32: 0 | P32: 0 | Q32: 2.7 | R32: 3.845 | S32: 4.7
A33: 其中：大别山森林防火重点区生物阻隔带建设 | B33: 3296.11 | F33: 3296.11 | G33: 2050.51 | H33: 1245.6 | I33: 0 | J33: 0 | K33: 0 | L33: 0 | M33: 0 | N33: 0 | O33: 0 | P33: 0 | Q33: —— | R33: —— | S33: ——
A34: 注：1、全国森林防火规划（2016—2025年）以外的建设项目可自行增加列。
A35: 2、大别山、武陵山、武夷山、南岭、大小兴安岭防火重点区详见全国森林防火重点区分布范围表，附表12。
A36: 3、火险区综合治理等项目，按审批建设内容拆解填表。
A37: 4、本表需填报省级合计数、所辖地级市合计数，以及本省高危区、高风险区合计数。
A38: 5、林管局、林场等省/森工集团直属单位单独成行统计填报，保护区、森林公园等自然保护地数据由其所在地市一并统计填报。

Sheet 附表7
A1: 森林防火应急道路建设现状统计表
A2: 附表7
A3: 项目名称 | B3: 合计 | C3: 新建和升级改造防火应急 道路 | F3: 森林防火应急道路重点建设项目 | L3: 国有林区路网密度（林地面积） | O3: 重点区域路网密度（林地面积）
C4: 小计 | D4: 联通断头路 | E4: 升级改造集材废弃路和简易路 | F4: 大小兴安岭新建 | G4: 大小兴安岭改建 | H4: 长白山完达山新建 | I4: 长白山完达山改建 | J4: 横断山脉新建 | K4: 横断山脉改建 | L4: 规划实施前 | M4: 2020年 | N4: 预计规划期末 | O4: 规划实施前 | P4: 2020年 | Q4: 预计规划期末
B5: 公里 | C5: 公里 | D5: 公里 | E5: 公里 | F5: 公里 | G5: 公里 | H5: 公里 | I5: 公里 | J5: 公里 | K5: 公里 | L5: 米/公顷 | M5: 米/公顷 | N5: 米/公顷 | O5: 米/公顷 | P5: 米/公顷 | Q5: 米/公顷
A6: 2016-2020年全省合计完成量 | B6: =SUM(B7:B17) -> 1217.236 | C6: =SUM(C7:C17) -> 1217.236 | D6: =SUM(D7:D17) -> 182.8 | E6: =SUM(E7:E17) -> 1034.436 | F6: 0 | G6: 0 | H6: 0 | I6: 0 | J6: 0 | K6: 0 | L6: 2.4 | M6: 2.7 | N6: 3.5 | O6: 0.98 | P6: 1.24 | Q6: 3.2
A7: 合肥市 | B7: 246.846 | C7: 246.846 | D7: 0 | E7: 246.846 | F7: 0 | G7: 0 | H7: 0 | I7: 0 | J7: 0 | K7: 0
A8: 亳州市 | B8: 40 | C8: 40 | D8: 0 | E8: 40 | F8: 0 | G8: 0 | H8: 0 | I8: 0 | J8: 0 | K8: 0
A9: 蚌埠市 | B9: 20 | C9: 20 | D9: 7 | E9: 13 | F9: 0 | G9: 0 | H9: 0 | I9: 0 | J9: 0 | K9: 0 | L9: 5 | M9: 12.9 | N9: 14 | O9: 8.2 | P9: 21.7 | Q9: 23
A10: 淮南市 | B10: 18 | C10: 18 | D10: 5 | E10: 13 | F10: 0 | G10: 0 | H10: 0 | I10: 0 | J10: 0 | K10: 0
A11: 滁州市 | B11: 228 | C11: 228 | D11: 48 | E11: 180 | F11: 0 | G11: 0 | H11: 0 | I11: 0 | J11: 0 | K11: 0 | L11: 2 | M11: 3.2 | N11: 3.5 | O11: 2 | P11: 3.2 | Q11: 3.5
A12: 六安市 | B12: 335.5 | C12: 335.5 | D12: 100.8 | E12: 234.7 | F12: 0 | G12: 0 | H12: 0 | I12: 0 | J12: 0 | K12: 0
A13: 芜湖市 | B13: 147 | C13: 147 | D13: 0 | E13: 147 | F13: 0 | G13: 0 | H13: 0 | I13: 0 | J13: 0 | K13: 0 | L13: 1 | M13: 2.5 | N13: 3.1 | O13: 1.3 | P13: 2.8 | Q13: 3
A14: 马鞍山市 | B14: 8 | C14: 8 | D14: 3 | E14: 5 | F14: 0 | G14: 0 | H14: 0 | I14: 0 | J14: 0 | K14: 0 | L14: 5.2 | M14: 6.3 | N14: 7 | O14: 13 | P14: 14.2 | Q14: 14.8
A15: 铜陵市 | B15: 65 | C15: 65 | D15: 4 | E15: 61 | F15: 0 | G15: 0 | H15: 0 | I15: 0 | J15: 0 | K15: 0 | L15: 20 | M15: 20 | N15: 25 | O15: 9 | P15: 9.2 | Q15: 9.2
A16: 池州市 | B16: 50 | C16: 50 | D16: 15 | E16: 35 | F16: 0 | G16: 0 | H16: 0 | I16: 0 | J16: 0 | K16: 0 | L16: 1.5 | M16: 4.56 | N16: 4.56 | O16: 1.5 | P16: 0.53 | Q16: 1
A17: 安庆市 | B17: 58.89 | C17: 58.89 | D17: 0 | E17: 58.89 | F17: 0 | G17: 0 | H17: 0 | I17: 0 | J17: 0 | K17: 0
A18: 其中：森林火灾高风险区完成量 | B18: 568.63 | C18: 568.63 | D18: 52 | E18: 516.63 | F18: 0 | G18: 0 | H18: 0 | I18: 0 | J18: 0 | K18: 0
A19: 截至目前现有数量 | B19: 4872.236 | C19: =SUM(C20:C30) -> 4872.236 | D19: =SUM(D20:D30) -> 1499.8 | E19: =SUM(E20:E30) -> 3372.436 | F19: 0 | G19: 0 | H19: 0 | I19: 0 | J19: 0 | K19: 0 | L19: 2.4 | M19: 2.7 | N19: 3.5 | O19: 0.98 | P19: 1.24 | Q19: 3.2
A20: 合肥市 | B20: 246.846 | C20: 246.846 | D20: 0 | E20: 246.846 | F20: 0 | G20: 0 | H20: 0 | I20: 0 | J20: 0 | K20: 0
A21: 亳州市 | B21: 40 | C21: 40 | D21: 0 | E21: 40 | F21: 0 | G21: 0 | H21: 0 | I21: 0 | J21: 0 | K21: 0
A22: 蚌埠市 | B22: 20 | C22: 20 | D22: 7 | E22: 13 | F22: 0 | G22: 0 | H22: 0 | I22: 0 | J22: 0 | K22: 0 | L22: 5 | M22: 12.9 | N22: 14 | O22: 8.2 | P22: 21.7 | Q22: 23
A23: 淮南市 | B23: 70 | C23: 70 | D23: 20 | E23: 50 | F23: 0 | G23: 0 | H23: 0 | I23: 0 | J23: 0 | K23: 0 | L23: 5.1 | M23: 18 | O23: 0.8 | P23: 2.1 | Q23: 3.1
A24: 滁州市 | B24: 228 | C24: 228 | D24: 48 | E24: 180 | F24: 0 | G24: 0 | H24: 0 | I24: 0 | J24: 0 | K24: 0 | L24: 2 | M24: 3.2 | N24: 3.5 | O24: 2 | P24: 3.2 | Q24: 3.5
A25: 六安市 | B25: 3287.5 | C25: 3287.5 | D25: 984.8 | E25: 2302.7 | F25: 0 | G25: 0 | H25: 0 | I25: 0 | J25: 0 | K25: 0 | L25: 1.85 | M25: 3.45 | N25: 3.75 | O25: 7.1 | P25: 8.07 | Q25: 10.5
A26: 芜湖市 | B26: 147 | C26: 147 | E26: 147 | F26: 0 | G26: 0 | H26: 0 | I26: 0 | J26: 0 | K26: 0
A27: 马鞍山市 | B27: 8 | C27: 8 | D27: 3 | E27: 5 | F27: 0 | G27: 0 | H27: 0 | I27: 0 | J27: 0 | K27: 0 | L27: 5.2 | M27: 6.3 | N27: 7 | O27: 13 | P27: 14.2 | Q27: 14.8
A28: 铜陵市 | B28: 250 | C28: 250 | D28: 60 | E28: 190 | F28: 0 | G28: 0 | H28: 0 | I28: 0 | J28: 0 | K28: 0
A29: 池州市 | B29: 75 | C29: 75 | D29: 25 | E29: 50 | F29: 0 | G29: 0 | H29: 0 | I29: 0 | J29: 0 | K29: 0 | L29: 1.5 | M29: 4.56 | N29: 4.56 | O29: 1.5 | P29: 0.53 | Q29: 1
A30: 安庆市 | B30: 499.89 | C30: 499.89 | D30: 352 | E30: 147.89 | F30: 0 | G30: 0 | H30: 0 | I30: 0 | J30: 0 | K30: 0
A31: 其中：森林火灾高风险区完成量 | B31: 4520 | C31: 4520 | D31: 1268 | E31: 3252 | F31: 0 | G31: 0 | H31: 0 | I31: 0 | J31: 0 | K31: 0 | L31: 2.4 | M31: 2.7 | N31: 3.5 | O31: 0.98 | P31: 1.24 | Q31: 3.2
A32: 注：1、全国森林防火规划（2016—2025年）以外的建设项目可自行增加列。
A33: 2、大小兴安岭、长白山完达山、横断山脉防火重点区详见全国森林防火重点区分布范围表，附表12。
A34: 3、火险区综合治理等项目，按审批建设内容拆解填表。
A35: 4、本表需填报省级合计数、所辖地级市合计数，以及本省高危区、高风险区合计数。
A36: 5、林管局、林场等省/森工集团直属单位单独成行统计填报，保护区、森林公园等自然保护地数据由其所在地市一并统计填报。

Sheet 十三五完成和十四五规划情况
A1: 附表9
A2: 重点建设任务完成和规划情况表
F3: 单位：万元
A4: 建设内容 | B4: （2016-2025年）规划任务 | C4: 十三五完成任务 | D4: 十四五规划任务 | E4: 备注说明 | F4: 总投资 | I4: 近期投资（2016-2020） | L4: 远期投资（2021-2025）
F5: 计 | G5: 中央 | H5: 地方 | I5: 计 | J5: 中央 | K5: 地方 | L5: 计 | M5: 中央 | N5: 地方
A6: 合 计 | F6: =F7+F12+F17+F22+F25+F29+F34+F39+F41+F43 -> 449400 | G6: =G7+G12+G17+G22+G25+G29+G34+G39+G41+G43 -> 332620 | H6: =H7+H12+H17+H22+H25+H29+H34+H39+H41+H43 -> 116780 | I6: =I7+I12+I17+I22+I25+I29+I34+I39+I41+I43 -> 223850 | J6: =J7+J12+J17+J22+J25+J29+J34+J39+J41+J43 -> 162630 | K6: =K7+K12+K17+K22+K25+K29+K34+K39+K41+K43 -> 61220 | L6: =L7+L12+L17+L22+L25+L29+L34+L39+L41+L43 -> 225550 | M6: =M7+M12+M17+M22+M25+M29+M34+M39+M41+M43 -> 169990 | N6: =N7+N12+N17+N22+N25+N29+N34+N39+N41+N43 -> 55560
A7: 1、森林火险预警监测系统 | F7: =F8+F10+F11+F9 -> 12250 | G7: =G8+G10+G11+G9 -> 9800 | H7: =H8+H10+H11+H9 -> 2450 | I7: =I8+I10+I11+I9 -> 7300 | J7: =J8+J10+J11+J9 -> 5840 | K7: =K8+K10+K11+K9 -> 1460 | L7: =L8+L10+L11+L9 -> 4950 | M7: =M8+M10+M11+M9 -> 3960 | N7: =N8+N10+N11+N9 -> 990
A8: 森林火险预警系统 | B8: 新建60个新型森林火险综合监测站 | C8: 完成8个新型森林火险综合监测站，池州市新增完成森林火险预警模型1套 | D8: 完成52个新型森林火险综合监测站 | F8: 600 | G8: =F8*0.8 -> 480 | H8: =F8*0.2 -> 120 | I8: 400 | J8: =I8*0.8 -> 320 | K8: =I8*0.2 -> 80 | L8: =F8-I8 -> 200 | M8: =L8*0.8 -> 160 | N8: =L8*0.2 -> 40
A9: 森林防火气象服务综合业务体系 | B9: 本期规划与气象部门联合建立一套完善的森林防火气象服务综合业务平台 | D9: 本期规划与气象部门联合建立一套完善的森林防火气象服务综合业务平台 | E9: 未实施（国家没有） 6+N中③火情预警监测分析系统：新建1套火灾预警监测分析系统。 ④基于卫星遥感预警监测系统：新建1套基于卫星遥感预警监测系统。 ⑤林火预警推送服务系统：新建1套全省统一的林火预警推送服务系统。就是一个综合平台体系 | F9: 1000 | G9: =F9*0.8 -> 800 | H9: =F9*0.2 -> 200 | I9: 600 | J9: =I9*0.8 -> 480 | K9: =I9*0.2 -> 120 | L9: =F9-I9 -> 400 | M9: =L9*0.8 -> 320 | N9: =L9*0.2 -> 80
A10: 林火视频监控系统 | B10: 新建视频监控系统200套 | C10: 完成视频监控系统254套，覆盖林地面积1069286公顷，覆盖率达到28%。 | E10: 已完成 | F10: 7500 | G10: =F10*0.8 -> 6000 | H10: =F10*0.2 -> 1500 | I10: 4500 | J10: =I10*0.8 -> 3600 | K10: =I10*0.2 -> 900 | L10: =F10-I10 -> 3000 | M10: =L10*0.8 -> 2400 | N10: =L10*0.2 -> 600
A11: 瞭望塔建设 | B11: 新建瞭望塔45座，并配备高倍望远镜、红外探测仪等100架（套）；改造瞭望塔及配套设施100座。 | C11: 完成新建瞭望塔（台）74座，改造瞭望塔（台）61座，配备高倍望远镜、红外探测仪等84架（套）；覆盖林地面积284067公顷。 | D11: 规划改造建瞭望塔（台）39座，配备高倍望远镜、红外探测仪等16架（套）。 | F11: 3150 | G11: =F11*0.8 -> 2520 | H11: =F11*0.2 -> 630 | I11: 1800 | J11: =I11*0.8 -> 1440 | K11: =I11*0.2 -> 360 | L11: =F11-I11 -> 1350 | M11: =L11*0.8 -> 1080 | N11: =L11*0.2 -> 270
A12: 2、森林防火通信系统建设 | F12: =SUM(F13:F16) -> 4000 | G12: =SUM(G13:G16) -> 3200 | H12: =SUM(H13:H16) -> 800 | I12: =SUM(I13:I16) -> 2100 | J12: =SUM(J13:J16) -> 1680 | K12: =SUM(K13:K16) -> 420 | L12: =SUM(L13:L16) -> 1900 | M12: =SUM(M13:M16) -> 1520 | N12: =SUM(N13:N16) -> 380
A13: 有线综合网络项目 | B13: 新建设省至各市、县（区）森林防火基础骨干网络 | C13: 完成森林防火有线综合网络项目1套（芜湖市） | D13: 新建设省至各市、县（区）森林防火基础骨干网络 | F13: 500 | G13: =F13*0.8 -> 400 | H13: =F13*0.2 -> 100 | I13: 300 | J13: =I13*0.8 -> 240 | K13: =I13*0.2 -> 60 | L13: =F13-I13 -> 200 | M13: =L13*0.8 -> 160 | N13: =L13*0.2 -> 40
A14: 火场通信网络建设 | B14: 规划升级和改造各级通信调度系统、新增手持台设备3500台、车载台设备200台、背负式设备150台、语音网关80套 | C14: 完成新建数字超短波固定基站1套，完成车载台设备6套，手持台设备1164台。 | D14: 规划升级和改造各级通信调度系统、新增手持台设备2336台、车载台设备194套、背负式设备150台、语音网关80 套。 | F14: 1100 | G14: =F14*0.8 -> 880 | H14: =F14*0.2 -> 220 | I14: 500 | J14: =I14*0.8 -> 400 | K14: =I14*0.2 -> 100 | L14: =F14-I14 -> 600 | M14: =L14*0.8 -> 480 | N14: =L14*0.2 -> 120
A15: 卫星通信网络建设项目 | B15: 新建VSAT卫星固定小站3个、VSAT卫星便携站18个、VSAT卫星电话3部、视频图传系统18套、BGAN系统18套、海事卫星电话56部、北斗指挥机系统56套、北斗车载系统122套及北斗手持机448套 | C15: 北斗指挥机系统1套，北斗手持机1套 | D15: 新建VSAT卫星固定小站3个、VSAT卫星便携站18个、VSAT卫星电话3部、视频图传系统18套、BGAN系统18套、海事卫星电话56部、北斗指挥机系统55套、北斗车载系统122套及北斗手持机447套 | F15: 1500 | G15: =F15*0.8 -> 1200 | H15: =F15*0.2 -> 300 | I15: 800 | J15: =I15*0.8 -> 640 | K15: =I15*0.2 -> 160 | L15: =F15-I15 -> 700 | M15: =L15*0.8 -> 560 | N15: =L15*0.2 -> 140
A16: 机动通信系统建设 | B16: 配置省级大型通信车1辆、中型通信车2辆、小型火场应急指挥车12辆含车载设备。 | D16: 配置省级大型通信车1辆、中型通信车2辆、小型火场应急指挥车12辆含车载设备。 | E16: 未实施 | F16: 900 | G16: =F16*0.8 -> 720 | H16: =F16*0.2 -> 180 | I16: 500 | J16: =I16*0.8 -> 400 | K16: =I16*0.2 -> 100 | L16: =F16-I16 -> 400 | M16: =L16*0.8 -> 320 | N16: =L16*0.2 -> 80
A17: 3、森林防火信息处理系统 | F17: =F18+F19+F20+F21 -> 13500 | G17: =G18+G19+G20+G21 -> 10800 | H17: =H18+H19+H20+H21 -> 2700 | I17: =I18+I19+I20+I21 -> 8200 | J17: =J18+J19+J20+J21 -> 6560 | K17: =K18+K19+K20+K21 -> 1640 | L17: =L18+L19+L20+L21 -> 5300 | M17: =M18+M19+M20+M21 -> 4240 | N17: =N18+N19+N20+N21 -> 1060
A18: 综合管控系统 | B18: 规划构建全省统一的森林防火大数据平台及业务软件16套,建设森林防火硬件、软件、数据一体化管控平台 | D18: 规划构建全省统一的森林防火大数据平台及业务软件16套,建设森林防火硬件、软件、数据一体化管控平台 | E18: 未实施 6+N中有相关内容，但表述不一致 | F18: 1500 | G18: =F18*0.8 -> 1200 | H18: =F18*0.2 -> 300 | I18: 1000 | J18: =I18*0.8 -> 800 | K18: =I18*0.2 -> 200 | L18: =F18-I18 -> 500 | M18: =L18*0.8 -> 400 | N18: =L18*0.2 -> 100
A19: 综合指挥系统 | B19: 新建设省级森林防火指挥中心二期项目，逐步更新市级森林防火指挥中心16套、新建县级森林防火指挥中心56套及配套的应用系统。 | C19: 更新市级森林防火指挥中心2套、新建县级森林防火指挥中心12套及配套的应用系统。 | D19: 新建设省级森林防火指挥中心二期项目，逐步更新市级森林防火指挥中心14套、新建县级森林防火指挥中心44套及配套的应用系统。 | F19: 10000 | G19: =F19*0.8 -> 8000 | H19: =F19*0.2 -> 2000 | I19: 6000 | J19: =I19*0.8 -> 4800 | K19: =I19*0.2 -> 1200 | L19: =F19-I19 -> 4000 | M19: =L19*0.8 -> 3200 | N19: =L19*0.2 -> 800
A20: 综合保障系统 | B20: 规划依托专业运维团队，建立有效的运维支撑体系 | C20: 新建运维管理系统建设1套（芜湖市） | D20: 规划依托专业运维团队，加强建立有效的运维支撑体系 | F20: 500 | G20: =F20*0.8 -> 400 | H20: =F20*0.2 -> 100 | I20: 300 | J20: =I20*0.8 -> 240 | K20: =I20*0.2 -> 60 | L20: =F20-I20 -> 200 | M20: =L20*0.8 -> 160 | N20: =L20*0.2 -> 40
A21: 专家决策支持系统建设 | B21: 规划对森林防火会商探讨、科学研究等方面进行相应的投入 | D21: 规划对森林防火会商探讨、科学研究等方面进行相应的投入 | E21: 未实施（国家没有） | F21: 1500 | G21: =F21*0.8 -> 1200 | H21: =F21*0.2 -> 300 | I21: 900 | J21: =I21*0.8 -> 720 | K21: =I21*0.2 -> 180 | L21: =F21-I21 -> 600 | M21: =L21*0.8 -> 480 | N21: =L21*0.2 -> 120
A22: 4、森林消防队伍建设 | F22: =F23+F24 -> 61000 | G22: =G23+G24 -> 47900 | H22: =H23+H24 -> 13100 | I22: =I23+I24 -> 31500 | J22: =J23+J24 -> 24750 | K22: =K23+K24 -> 6750 | L22: =L23+L24 -> 29500 | M22: =M23+M24 -> 23150 | N22: =N23+N24 -> 6350
A23: 武警森林部队建设 | B23: 规划支持武警森林驻皖部队能力建设，每年给予必要的财政保障 | D23: 规划支持武警森林驻皖部队能力建设，每年给予必要的财政保障 | E23: 未实施 | F23: 3000 | G23: 1500 | H23: 1500 | I23: 1500 | J23: 750 | K23: 750 | L23: 1500 | M23: 750 | N23: 750
A24: 专业森林消防队伍建设 | B24: 规划期内新组建森林火灾高风险区火险县（市、区）100人以上的专业森林消防队，一般森林火险区火险县（市、区）25人以上的专业森林消防队，共新建专业森林消防队105支，提高和完善现有182支森林消防队伍,新建营房143座，按年稳定补充各类扑火设备 | C24: 1、专业队伍建设：已组建专业队伍110支，合计2879人。 2、森林消防专业队伍标准化建设：完善提升专业队装备（标准化建设）110支,装备风力灭火机械化队伍346支，新建专业队营房7464平方米，改扩建专业队伍营房2353平方米，扑火前指挥基地4处。 3、以水灭火设施设备建设：装备以水灭火队伍36支，以水灭火装备452台，以水灭火水源地1114处。 4、森林防火野外实训基地：国家森林防火野外实训基地5处。 | D24: 规划期内新组建森林火灾高风险区火险县（市、区）100人以上的专业森林消防队，一般森林火险区火险县（市、区）25人以上的专业森林消防队，共提高和完善现有72支森林消防队伍,新建营房143座，按年稳定补充各类扑火设备 | E24: 十年规划新建营房是143座，十三五完成7464平方米，单位不一致，无法确认十四五实施任务。 能力提升工程中：森林消防专业队伍新增建设规模2107人，森林消防专业队伍营房新增建设规模119916平方米。训练场新增建设规模175500平方米。 | F24: 58000 | G24: =F24*0.8 -> 46400 | H24: =F24*0.2 -> 11600 | I24: 30000 | J24: =I24*0.8 -> 24000 | K24: =I24*0.2 -> 6000 | L24: =F24-I24 -> 28000 | M24: =L24*0.8 -> 22400 | N24: =L24*0.2 -> 5600
A25: 5、森林消防装备能力建设 | F25: =F26+F27+F28 -> 55950 | G25: =F25*0.8 -> 44760 | H25: =F25*0.2 -> 11190 | I25: =I26+I27+I28 -> 33100 | J25: =I25*0.8 -> 26480 | K25: =I25*0.2 -> 6620 | L25: =L26+L27+L28 -> 22850 | M25: =L25*0.8 -> 18280 | N25: =L25*0.2 -> 4570
A26: 扑火物资储备 | B26: 规划新增各类扑火物资5万台（套、把）和45辆森林防火指挥车、56辆运兵车、112辆消防车。 | C26: 已购买风力灭火机、油锯、割灌机等基本灭火机具4448台，队员安全防护装备和野外生存装备3035套，运兵车、机具车、消防艇等防火车辆112辆。 | D26: 规划新增各类扑火物资4.2万台（套、把），规划新增运兵车、机具车、消防艇等防火车辆101辆。 | F26: 50000 | G26: =F26*0.8 -> 40000 | H26: =F26*0.2 -> 10000 | I26: 30000 | J26: =I26*0.8 -> 24000 | K26: =I26*0.2 -> 6000 | L26: =F26-I26 -> 20000 | M26: =L26*0.8 -> 16000 | N26: =L26*0.2 -> 4000
A27: 物资储备库房建设 | B27: 规划期内改造、扩建现有的972座物资储备库 | D27: 规划期内改造、扩建现有的972座物资储备库 | E27: 未实施 能力提升工程中：共建设3处省级库，其中省中心库1处，面积为1500平方米，储备2000万元森林防火物资；省级分库2处，建设面积各500平方米，储备500万元森林防火物资。 | F27: 2950 | G27: =F27*0.8 -> 2360 | H27: =F27*0.2 -> 590 | I27: 1600 | J27: =I27*0.8 -> 1280 | K27: =I27*0.2 -> 320 | L27: =F27-I27 -> 1350 | M27: =L27*0.8 -> 1080 | N27: =L27*0.2 -> 270
A28: 森林公安执法队伍装备建设 | B28: 规划全省增补配备73辆刑事勘察车和730套刑事勘查设备 | D28: 规划全省增补配备73辆刑事勘察车和730套刑事勘查设备 | E28: 未实施，是否应删除 | F28: 3000 | G28: =F28*0.8 -> 2400 | H28: =F28*0.2 -> 600 | I28: 1500 | J28: =I28*0.8 -> 1200 | K28: =I28*0.2 -> 300 | L28: =F28-I28 -> 1500 | M28: =L28*0.8 -> 1200 | N28: =L28*0.2 -> 300
A29: 6、森林航空消防能力建设 | E29: 评估表中没有看到相关建设内容完成情况 | F29: =F30+F31+F32+F33 -> 27500 | G29: =G30+G31+G32+G33 -> 22000 | H29: =H30+H31+H32+H33 -> 5500 | I29: =I30+I31+I32+I33 -> 13750 | J29: =J30+J31+J32+J33 -> 11000 | K29: =K30+K31+K32+K33 -> 2750 | L29: =L30+L31+L32+L33 -> 13750 | M29: =M30+M31+M32+M33 -> 11000 | N29: =N30+N31+N32+N33 -> 2750
A30: 森林航空消防机源 | B30: 规划防火期内每年租用2-4架森林防火航护直升机及机组人员开展航空护林工作 | D30: 规划防火期内每年租用2-4架森林防火航护直升机及机组人员开展航空护林工作 | F30: 15000 | G30: =F30*0.8 -> 12000 | H30: =F30*0.2 -> 3000 | I30: 7500 | J30: =I30*0.8 -> 6000 | K30: =I30*0.2 -> 1500 | L30: =F30-I30 -> 7500 | M30: =L30*0.8 -> 6000 | N30: =L30*0.2 -> 1500
A31: 航站建设项目 | B31: 规划期内新建航空护林站（基地）2个（近期1个，远期1个），新建航空护林分基地5个（近期2个，远期3个） | D31: 规划期内新建航空护林站（基地）2个（近期1个，远期1个），新建航空护林分基地5个（近期2个，远期3个） | F31: 8500 | G31: =F31*0.8 -> 6800 | H31: =F31*0.2 -> 1700 | I31: 3750 | J31: =I31*0.8 -> 3000 | K31: =I31*0.2 -> 750 | L31: =F31-I31 -> 4750 | M31: =L31*0.8 -> 3800 | N31: =L31*0.2 -> 950
A32: 火场侦察系统 | B32: 规划直升机为载体，加载激光红外光电吊舱，利用卫星通信等信息传输技术建立火场侦察系统 | D32: 规划直升机为载体，加载激光红外光电吊舱，利用卫星通信等信息传输技术建立火场侦察系统 | F32: 1000 | G32: =F32*0.8 -> 800 | H32: =F32*0.2 -> 200 | I32: 500 | J32: =I32*0.8 -> 400 | K32: =I32*0.2 -> 100 | L32: =F32-I32 -> 500 | M32: =L32*0.8 -> 400 | N32: =L32*0.2 -> 100
A33: 森林防火无人机系统建设 | B33: 重点保护区新建18架中型森林防火无人机、50架小型无人机及附属航控设备。 | D33: 重点保护区新建18架中型森林防火无人机、50架小型无人机及附属航控设备。 | E33: 6+N系统可以完成该项任务，该项内容是否可以删除 | F33: 3000 | G33: =F33*0.8 -> 2400 | H33: =F33*0.2 -> 600 | I33: 2000 | J33: =I33*0.8 -> 1600 | K33: =I33*0.2 -> 400 | L33: =F33-I33 -> 1000 | M33: =L33*0.8 -> 800 | N33: =L33*0.2 -> 200
A34: 7、林火阻隔系统建设 | C34: 1、工程阻隔带：完成1780.8公里，其中生土带456.8公里，防火线1324公里。 2、生物防火阻隔带：完成3003.93公里，其中林内1361.61公里，林缘1642.32公里。 3、阻隔网密度：2020年为3.6米/公顷。 | E34: 该项内容无法按建设任务分开，建议按照建设内容罗列，如果按照这个内容可以让各个地方再细化 | F34: =F35+F36+F37+F38 -> 38700 | G34: =G35+G36+G37+G38 -> 30960 | H34: =H35+H36+H37+H38 -> 7740 | I34: =I35+I36+I37+I38 -> 1900 | J34: =J35+J36+J37+J38 -> 1520 | K34: =K35+K36+K37+K38 -> 380 | L34: =L35+L36+L37+L38 -> 36800 | M34: =M35+M36+M37+M38 -> 29440 | N34: =N35+N36+N37+N38 -> 7360
A35: 大别山森林防火重点区生物防火林带建设 | B35: 新建生物防火林带3000公里 | C35: 新建生物防火林带3000公里 | D35: 新建生物防火林带3000公里 | F35: 13500 | G35: =F35*0.8 -> 10800 | H35: =F35*0.2 -> 2700 | I35: 600 | J35: =I35*0.8 -> 480 | K35: =I35*0.2 -> 120 | L35: =F35-I35 -> 12900 | M35: =L35*0.8 -> 10320 | N35: =L35*0.2 -> 2580
A36: 皖南森林防火重点区生物防火林带建设 | B36: 新建生物防火林带3600公里 | C36: 新建生物防火林带3600公里 | D36: 新建生物防火林带3600公里 | F36: 16200 | G36: =F36*0.8 -> 12960 | H36: =F36*0.2 -> 3240 | I36: 600 | J36: =I36*0.8 -> 480 | K36: =I36*0.2 -> 120 | L36: =F36-I36 -> 15600 | M36: =L36*0.8 -> 12480 | N36: =L36*0.2 -> 3120
